BEGIN:VCALENDAR
VERSION:2.0
PRODID:-//Munchy The Urban Kitchen - ECPv6.15.12.2//NONSGML v1.0//EN
CALSCALE:GREGORIAN
METHOD:PUBLISH
X-ORIGINAL-URL:https://urbankitchen.at
X-WR-CALDESC:Veranstaltungen für Munchy The Urban Kitchen
REFRESH-INTERVAL;VALUE=DURATION:PT1H
X-Robots-Tag:noindex
X-PUBLISHED-TTL:PT1H
BEGIN:VTIMEZONE
TZID:UTC
BEGIN:STANDARD
TZOFFSETFROM:+0000
TZOFFSETTO:+0000
TZNAME:UTC
DTSTART:20250101T000000
END:STANDARD
END:VTIMEZONE
BEGIN:VEVENT
DTSTART;TZID=UTC:20260429T210000
DTEND;TZID=UTC:20260429T230000
DTSTAMP:20260424T185142
CREATED:20260420T103708Z
LAST-MODIFIED:20260420T113744Z
UID:5448-1777496400-1777503600@urbankitchen.at
SUMMARY:Atletico Madrid-Arsenal - 29/04/2026
DESCRIPTION:Erlebe einen weiteren unvergesslichen Champions League Abend im Munchy am Schottenring\, wenn Atlético Madrid und Arsenal im Halbfinale aufeinandertreffen und Wien für einen Moment stillsteht\, während sich alles auf dieses Spiel konzentriert. Schon beim Betreten spürst du die besondere Energie\, die sich aus der Kombination von Fußballleidenschaft und einer vibrierenden Crowd entwickelt. Große Screens sorgen dafür\, dass du jede Szene gestochen scharf verfolgen kannst\, während der Sound dich mitten ins Geschehen zieht. Hier geht es nicht nur um das Spiel selbst\, sondern um das Gefühl\, gemeinsam Teil davon zu sein. Das Munchy wird an diesem Abend zum Treffpunkt für alle\, die Fußball nicht nur schauen\, sondern erleben wollen. \nVor dem Anpfiff beginnt das Erlebnis bereits mit einer entspannten\, aber gleichzeitig geladenen Atmosphäre\, die sich langsam aufbaut. Du kommst an\, sicherst dir deinen Platz und tauchst Schritt für Schritt in die Matchday-Stimmung ein. Frisch zubereitete Burger\, heiße Fries und perfekt abgestimmte Drinks begleiten dich durch den gesamten Abend. Gespräche\, Diskussionen und erste Prognosen sorgen dafür\, dass sich die Spannung immer weiter steigert. Jeder Moment vor dem Spiel trägt dazu bei\, dass der Abend sich besonders anfühlt. \nSobald das Spiel startet\, verwandelt sich das Munchy in eine lebendige Fußballarena mitten in Wien. Jeder Angriff von Atlético\, jede Kombination von Arsenal und jede Torchance wird gemeinsam gefeiert oder diskutiert. Die Emotionen sind greifbar und übertragen sich von Tisch zu Tisch durch den ganzen Raum. Licht\, Sound und die Reaktionen der Crowd verschmelzen zu einem intensiven Gesamterlebnis. Genau diese Dynamik macht den Unterschied zwischen einem normalen Abend und einem echten Fußballhighlight. \nEin Spiel wie dieses lebt von der Atmosphäre und genau hier setzt das Munchy an. Du bist nicht allein vor einem Bildschirm\, sondern Teil einer Community\, die dieselbe Leidenschaft teilt. Fremde werden zu Gesprächspartnern\, Jubel wird gemeinsam erlebt und jede Entscheidung auf dem Platz sorgt für unmittelbare Reaktionen im Raum. Diese Energie lässt sich nicht replizieren und macht jeden Besuch einzigartig. Es entsteht ein Erlebnis\, das weit über das Spiel hinausgeht. \nSichere dir rechtzeitig deinen Platz und sei dabei\, wenn dieser große Fußballabend seinen Höhepunkt erreicht. Die Nachfrage wird hoch sein\, denn solche Spiele ziehen echte Fans an\, die die Atmosphäre in voller Intensität genießen wollen. Plane deinen Abend im Voraus und komm früh\, um das gesamte Erlebnis auszukosten. Vom ersten Drink bis zum letzten Pfiff bleibt die Spannung konstant auf einem hohen Level. Im Munchy wird Champions League zu einem Erlebnis\, das du so schnell nicht vergessen wirst.
URL:https://urbankitchen.at/event/atletico-arsenal-29-04-26/
LOCATION:Munchy The Urban Kitchen\, Franz-Josefs-Kai 57\, Wien\, 1010\, Austria
CATEGORIES:sport
ATTACH;FMTTYPE=image/png:https://urbankitchen.at/wp-content/uploads/2026/04/AtleticoArsenal.png
ORGANIZER;CN="Munchy The Urban Kitchen":MAILTO:office@munchy.at
END:VEVENT
END:VCALENDAR