BEGIN:VCALENDAR
VERSION:2.0
PRODID:-//Munchy The Urban Kitchen - ECPv6.15.12.2//NONSGML v1.0//EN
CALSCALE:GREGORIAN
METHOD:PUBLISH
X-ORIGINAL-URL:https://urbankitchen.at
X-WR-CALDESC:Veranstaltungen für Munchy The Urban Kitchen
REFRESH-INTERVAL;VALUE=DURATION:PT1H
X-Robots-Tag:noindex
X-PUBLISHED-TTL:PT1H
BEGIN:VTIMEZONE
TZID:UTC
BEGIN:STANDARD
TZOFFSETFROM:+0000
TZOFFSETTO:+0000
TZNAME:UTC
DTSTART:20250101T000000
END:STANDARD
END:VTIMEZONE
BEGIN:VEVENT
DTSTART;TZID=UTC:20260502T161500
DTEND;TZID=UTC:20260502T181500
DTSTAMP:20260424T151820
CREATED:20260424T095550Z
LAST-MODIFIED:20260424T095550Z
UID:5466-1777738500-1777745700@urbankitchen.at
SUMMARY:Valencia-Atletico Madrid - 02/05/2026
DESCRIPTION:Erlebe ein hochklassiges La-Liga-Duell zwischen Valencia und Atlético Madrid in einer Atmosphäre\, die dich vom ersten Moment an mitreißt. Im Munchy am Schottenring wird jedes Spiel zu einem intensiven Erlebnis\, bei dem Spannung\, Tempo und Emotionen aufeinandertreffen. Die Kombination aus großen Screens\, klarem Sound und einer leidenschaftlichen Crowd sorgt dafür\, dass du jede Szene hautnah spürst. Hier geht es nicht nur um das Spiel\, sondern um das Gefühl\, Teil davon zu sein. Jeder Angriff und jede entscheidende Aktion wird gemeinsam erlebt. \nWenn Valencia auf Atlético trifft\, ist ein Spiel voller Intensität und taktischer Duelle garantiert. Genau diese Energie wird im Munchy verstärkt und auf ein neues Level gebracht. Während auf dem Platz um jeden Zentimeter gekämpft wird\, steigt im Raum die Spannung mit jeder Minute. Die Dynamik zwischen Fans und Spiel erzeugt eine besondere Atmosphäre\, die man nicht einfach reproduzieren kann. Hier wird Fußball zu einem Erlebnis\, das dich komplett einnimmt. \nDas Munchy am Schottenring verbindet modernes Bar-Design mit echtem Stadiongefühl und schafft damit eine einzigartige Umgebung für große Spiele. Hochwertige Drinks\, starke Food-Optionen und eine durchgehend lebendige Stimmung machen den Besuch zu mehr als nur einem normalen Fußballabend. Ob mit Freunden oder spontan vor Ort\, die gemeinsame Begeisterung bringt Menschen zusammen. Jeder Platz bietet dir eine perfekte Sicht auf das Spielgeschehen. Die Energie im Raum wächst mit jeder Spielphase und sorgt für unvergessliche Momente. \nReserviere dir rechtzeitig deinen Platz und sichere dir einen Spot bei einem der intensivsten Spiele des Wochenendes. Gerade bei solchen Top-Duellen ist die Nachfrage hoch und die besten Plätze sind schnell vergeben. Im Munchy erwartet dich ein rundes Gesamterlebnis aus Fußball\, Atmosphäre und Gemeinschaft. Von der ersten Minute bis zum Abpfiff bist du Teil eines Abends\, der mehr bietet als nur ein Spiel. Sei dabei und erlebe Valencia gegen Atlético Madrid in einer Umgebung\, die den Unterschied macht.
URL:https://urbankitchen.at/event/valencia-atletico-02-05-26/
LOCATION:Munchy The Urban Kitchen\, Franz-Josefs-Kai 57\, Wien\, 1010\, Austria
CATEGORIES:sport
ATTACH;FMTTYPE=image/png:https://urbankitchen.at/wp-content/uploads/2026/04/ValenciaAtletico.png
ORGANIZER;CN="Munchy The Urban Kitchen":MAILTO:office@munchy.at
END:VEVENT
BEGIN:VEVENT
DTSTART;TZID=UTC:20260502T183000
DTEND;TZID=UTC:20260502T203000
DTSTAMP:20260424T151820
CREATED:20260424T094426Z
LAST-MODIFIED:20260424T094426Z
UID:5462-1777746600-1777753800@urbankitchen.at
SUMMARY:Arsenal-Fulham - 02/05/2026
DESCRIPTION:Erlebe ein intensives Premier-League-Duell zwischen Arsenal und Fulham in einer Atmosphäre\, die dich mitten ins Spielgeschehen zieht. Im Munchy am Schottenring wird jedes Spiel zu einem echten Event\, bei dem Leidenschaft\, Spannung und Emotionen aufeinandertreffen. Die Kombination aus modernem Design\, großen Screens und einer energiegeladenen Crowd schafft ein unvergleichliches Fußballerlebnis. Hier geht es nicht nur darum\, das Spiel zu schauen\, sondern es gemeinsam zu fühlen. Jeder Angriff\, jeder Zweikampf und jedes Tor wird Teil eines kollektiven Moments. \nWenn Arsenal auf Fulham trifft\, ist Spannung garantiert und genau diese Spannung wird im Munchy auf ein neues Level gehoben. Die intensive Stimmung im Raum lässt dich jede Spielminute intensiver erleben als zu Hause. Während auf dem Platz um jeden Ball gekämpft wird\, wächst im Publikum die Vorfreude auf den nächsten großen Moment. Die Dynamik zwischen Fans\, Musik und Spiel sorgt für eine Atmosphäre\, die dich von der ersten Sekunde an mitreißt. Hier wird Fußball zu einem sozialen Erlebnis\, das weit über den Bildschirm hinausgeht. \nDas Munchy am Schottenring steht für hochwertige Drinks\, starke Food-Konzepte und eine perfekte Verbindung aus Bar-Feeling und Stadion-Vibes. Während das Spiel läuft\, kannst du dich auf eine durchgehend lebendige Stimmung verlassen\, die von echten Fußballfans getragen wird. Ob du mit Freunden kommst oder neue Leute kennenlernst\, die gemeinsame Begeisterung für das Spiel verbindet sofort. Jeder Platz bietet dir eine klare Sicht auf das Geschehen\, sodass du keine entscheidende Szene verpasst. Die Energie im Raum steigert sich mit jeder Spielphase und macht den Abend zu etwas Besonderem. \nReserviere dir rechtzeitig deinen Platz und sei Teil eines Abends\, der Fußball und Nightlife miteinander verbindet. Gerade bei Topspielen wie diesem ist die Nachfrage hoch und die besten Plätze sind schnell vergeben. Im Munchy geht es nicht nur um das Spiel\, sondern um das komplette Erlebnis drumherum. Von der ersten Minute bis zum Abpfiff bist du Teil einer Atmosphäre\, die du so nicht einfach replizieren kannst. Sichere dir deinen Spot und erlebe Arsenal gegen Fulham in einer Umgebung\, die den Unterschied macht.
URL:https://urbankitchen.at/event/arsenal-fulham-02-05-26/
LOCATION:Munchy The Urban Kitchen\, Franz-Josefs-Kai 57\, Wien\, 1010\, Austria
CATEGORIES:sport
ATTACH;FMTTYPE=image/png:https://urbankitchen.at/wp-content/uploads/2026/04/ArsenalFulham.png
ORGANIZER;CN="Munchy The Urban Kitchen":MAILTO:office@munchy.at
END:VEVENT
BEGIN:VEVENT
DTSTART;TZID=UTC:20260502T210000
DTEND;TZID=UTC:20260502T230000
DTSTAMP:20260424T151820
CREATED:20260424T095946Z
LAST-MODIFIED:20260424T095946Z
UID:5469-1777755600-1777762800@urbankitchen.at
SUMMARY:Osasuna-FC Barcelona - 02/05/2026
DESCRIPTION:Erlebe ein spannungsgeladenes La-Liga-Duell zwischen Osasuna und dem FC Barcelona in einer Atmosphäre\, die dich von der ersten Sekunde an mitreißt. Im Munchy am Schottenring wird jedes Spiel zu einem intensiven Live-Erlebnis\, bei dem Emotionen\, Tempo und Leidenschaft spürbar werden. Die großen Screens\, der klare Sound und die energiegeladene Crowd sorgen dafür\, dass du jede Szene hautnah erlebst. Hier geht es nicht nur ums Zuschauen\, sondern darum\, das Spiel gemeinsam zu fühlen. Jeder Moment wird Teil einer kollektiven Spannung. \nWenn Osasuna auf Barcelona trifft\, ist ein Spiel voller Dynamik und spielerischer Qualität garantiert. Genau diese Intensität wird im Munchy verstärkt und auf ein neues Level gebracht. Während auf dem Platz um jeden Ball gekämpft wird\, steigt im Raum die Energie mit jeder Minute. Die Verbindung aus Fans\, Spiel und Atmosphäre schafft ein Erlebnis\, das weit über ein normales Fußballschauen hinausgeht. Hier wird jede Aktion größer\, jede Chance wichtiger und jedes Tor unvergesslich. \nDas Munchy am Schottenring verbindet modernes Bar-Feeling mit echtem Stadioncharakter und schafft damit die perfekte Umgebung für große Fußballabende. Hochwertige Drinks\, starke Food-Optionen und eine konstant lebendige Stimmung machen den Abend zu einem rundum intensiven Erlebnis. Ob mit Freunden oder spontan vor Ort\, die gemeinsame Begeisterung bringt alle zusammen. Jeder Platz bietet dir eine optimale Sicht auf das Spielgeschehen. Die Energie im Raum wächst mit jeder Spielphase und sorgt für echte Gänsehautmomente. \nReserviere dir rechtzeitig deinen Platz und sichere dir einen Spot bei einem der spannendsten Spiele des Wochenendes. Gerade bei Topspielen wie diesem ist die Nachfrage hoch und die besten Plätze sind schnell vergeben. Im Munchy erwartet dich ein Erlebnis\, das Fußball und Atmosphäre perfekt verbindet. Von der ersten Minute bis zum Abpfiff bist du Teil eines Abends\, der mehr ist als nur ein Spiel. Sei dabei und erlebe Osasuna gegen den FC Barcelona in einer Umgebung\, die den Unterschied macht.
URL:https://urbankitchen.at/event/osasuna-barca-02-05-26/
LOCATION:Munchy The Urban Kitchen\, Franz-Josefs-Kai 57\, Wien\, 1010\, Austria
CATEGORIES:sport
ATTACH;FMTTYPE=image/png:https://urbankitchen.at/wp-content/uploads/2026/04/OsasunaBarca.png
ORGANIZER;CN="Munchy The Urban Kitchen":MAILTO:office@munchy.at
END:VEVENT
BEGIN:VEVENT
DTSTART;TZID=UTC:20260503T143000
DTEND;TZID=UTC:20260503T170000
DTSTAMP:20260424T151820
CREATED:20260424T104124Z
LAST-MODIFIED:20260424T104124Z
UID:5472-1777818600-1777827600@urbankitchen.at
SUMMARY:Österreichischen Bundesliga Meistergruppe Match Day - 03/05/2026
DESCRIPTION:Erlebe einen intensiven Meistergruppen-Spieltag der österreichischen Bundesliga im Munchy am Schottenring und tauche ein in eine Atmosphäre\, die Fußball auf ein neues Level hebt. Gleich zwei Topspiele an einem Tag sorgen für durchgehende Spannung\, Emotionen und echte Wettbewerbsdynamik. Wenn Austria Wien auf Hartberg trifft und anschließend RB Salzburg gegen Sturm Graz antritt\, ist ein Nachmittag und Abend voller entscheidender Momente garantiert. Jede Partie bringt ihre eigene Energie mit sich und steigert die Stimmung im Raum von Minute zu Minute. Hier wird jeder Spielabschnitt zum gemeinsamen Erlebnis. \nIm Munchy wird dieser Meistergruppen-Spieltag nicht einfach übertragen\, sondern inszeniert. Große Screens\, klarer Sound und eine crowd\, die jedes Detail mitverfolgt\, schaffen eine Umgebung\, die dich komplett ins Spiel zieht. Die Intensität auf dem Platz überträgt sich direkt in den Raum und sorgt für eine durchgehend elektrisierende Stimmung. Jeder Zweikampf\, jede Torchance und jede spielentscheidende Szene wird gemeinsam erlebt. Die Dynamik zwischen den Spielen hält die Energie konstant auf einem hohen Level. \nDas Munchy am Schottenring steht für ein Erlebnis\, das weit über klassisches Fußballschauen hinausgeht. Hochwertige Drinks\, starke Food-Konzepte und eine perfekt abgestimmte Umgebung sorgen dafür\, dass du dich von Anfang bis Ende wohlfühlst. Ob du gezielt für ein Spiel kommst oder den gesamten Matchday verfolgst\, die Atmosphäre bleibt durchgehend intensiv. Die Kombination aus Fußballleidenschaft und einer aktiven Crowd macht den Unterschied. Jeder Platz bietet dir eine optimale Sicht und ein echtes Live-Gefühl. \nReserviere dir rechtzeitig deinen Platz und sichere dir deinen Spot für diesen besonderen Meistergruppen-Spieltag. Gerade bei solchen Spieltagen mit mehreren Topspielen ist die Nachfrage hoch und die besten Plätze sind schnell vergeben. Im Munchy erwartet dich ein kompletter Fußballtag\, der Spannung\, Energie und Gemeinschaft verbindet. Von den ersten Minuten bis zum letzten Abpfiff bist du Teil eines Erlebnisses\, das dich mitreißt. Sei dabei und erlebe die österreichische Bundesliga in einer Atmosphäre\, die du so nicht verpassen solltest.
URL:https://urbankitchen.at/event/meistergruppe-03-05-26/
LOCATION:Munchy The Urban Kitchen\, Franz-Josefs-Kai 57\, Wien\, 1010\, Austria
CATEGORIES:sport
ATTACH;FMTTYPE=image/png:https://urbankitchen.at/wp-content/uploads/2026/04/ChampionshipRound_AustrianBundesliga_03.05.26.png
ORGANIZER;CN="Munchy The Urban Kitchen":MAILTO:office@munchy.at
END:VEVENT
BEGIN:VEVENT
DTSTART;TZID=UTC:20260503T153000
DTEND;TZID=UTC:20260503T183000
DTSTAMP:20260424T151820
CREATED:20260424T105300Z
LAST-MODIFIED:20260424T105300Z
UID:5483-1777822200-1777833000@urbankitchen.at
SUMMARY:Bundesliga Match Day - 03/05/2026
DESCRIPTION:Erlebe einen intensiven Bundesliga Matchday live im Munchy am Schottenring und tauche ein in eine Atmosphäre\, die dich von der ersten Minute an mitreißt. Gleich mehrere Topspiele an einem Abend sorgen für durchgehende Spannung und ein echtes Fußballerlebnis auf höchstem Niveau. Von St. Pauli gegen Mainz über das Duell Mönchengladbach gegen Borussia Dortmund bis hin zu Freiburg gegen Wolfsburg erwartet dich ein kompletter Spieltag voller Dynamik. Jedes Spiel bringt seine eigene Energie mit und sorgt dafür\, dass die Stimmung konstant auf einem hohen Level bleibt. Hier wird jeder Moment gemeinsam erlebt. \nIm Munchy wird dieser Bundesliga-Spieltag nicht einfach übertragen\, sondern intensiv inszeniert. Große Screens\, klarer Sound und eine leidenschaftliche Crowd schaffen eine Umgebung\, die dich komplett ins Spiel zieht. Die Spannung auf dem Platz überträgt sich direkt in den Raum und sorgt für eine elektrisierende Stimmung von Anfang bis Ende. Jeder Zweikampf\, jede Torchance und jede spielentscheidende Szene wird zum gemeinsamen Erlebnis. Die Energie zwischen den Spielen bleibt konstant und hält den gesamten Abend lebendig. \nDas Munchy am Schottenring steht für modernes Design\, starke Drinks und eine Atmosphäre\, die echtes Stadiongefühl vermittelt. Während die Spiele laufen\, entsteht eine Dynamik\, die du so nicht einfach zu Hause erleben kannst. Ob du gezielt für ein Spiel kommst oder den gesamten Matchday verfolgst\, die Stimmung bleibt durchgehend intensiv. Die Kombination aus Fußball\, Crowd und Umgebung macht den Unterschied. Jeder Platz bietet dir eine klare Sicht auf das Geschehen. \nReserviere dir rechtzeitig deinen Platz und sichere dir deinen Spot für diesen besonderen Bundesliga Matchday. Gerade bei mehreren Topspielen an einem Abend ist die Nachfrage hoch und die besten Plätze sind schnell vergeben. Im Munchy erwartet dich ein Fußballabend\, der Spannung\, Energie und Gemeinschaft perfekt verbindet. Von den ersten Minuten bis zum letzten Abpfiff bist du Teil eines Erlebnisses\, das dich mitreißt. Sei dabei und erlebe die Bundesliga in einer Atmosphäre\, die den Unterschied macht.
URL:https://urbankitchen.at/event/bundesliga-03-05-26/
LOCATION:Munchy The Urban Kitchen\, Franz-Josefs-Kai 57\, Wien\, 1010\, Austria
CATEGORIES:sport
ATTACH;FMTTYPE=image/jpeg:https://urbankitchen.at/wp-content/uploads/2026/04/Bundesliga_3Mayis.jpg
ORGANIZER;CN="Munchy The Urban Kitchen":MAILTO:office@munchy.at
END:VEVENT
BEGIN:VEVENT
DTSTART;TZID=UTC:20260503T163000
DTEND;TZID=UTC:20260503T183000
DTSTAMP:20260424T151820
CREATED:20260424T104753Z
LAST-MODIFIED:20260424T104753Z
UID:5476-1777825800-1777833000@urbankitchen.at
SUMMARY:Manchester United-Liverpool - 03/05/2026
DESCRIPTION:Erlebe eines der größten Duelle im Weltfußball live im Munchy am Schottenring und tauche ein in eine Atmosphäre\, die dich von der ersten Sekunde an mitreißt. Wenn Manchester United auf Liverpool trifft\, steht nicht nur ein Spiel auf dem Programm\, sondern ein echtes Prestige-Duell voller Intensität\, Emotionen und Geschichte. Im Munchy wird dieses Aufeinandertreffen zu einem Event\, bei dem jede Aktion auf dem Platz direkt spürbar wird. Große Screens\, klarer Sound und eine energiegeladene Crowd sorgen dafür\, dass du keine Sekunde verpasst. Hier wird Fußball nicht nur geschaut\, sondern gemeinsam erlebt. \nDie Rivalität zwischen Manchester United und Liverpool bringt ein besonderes Tempo und eine einzigartige Spannung mit sich. Genau diese Energie wird im Munchy verstärkt und auf ein neues Level gehoben. Jeder Zweikampf\, jede Torchance und jede spielentscheidende Szene sorgt für kollektive Reaktionen im Raum. Die Atmosphäre baut sich mit jeder Minute weiter auf und erreicht ihren Höhepunkt bei den entscheidenden Momenten. Es ist diese Dynamik\, die den Unterschied macht und das Spiel zu einem echten Erlebnis werden lässt. \nDas Munchy am Schottenring steht für ein modernes Setting mit echtem Stadiongefühl mitten in Wien. Hochwertige Drinks\, starke Food-Optionen und eine konstant lebendige Stimmung schaffen die perfekte Umgebung für Topspiele dieser Kategorie. Ob du mit Freunden kommst oder vor Ort neue Leute triffst\, die gemeinsame Begeisterung verbindet sofort. Jeder Platz bietet dir eine optimale Sicht auf das Spielgeschehen. Die Kombination aus Fußball und Atmosphäre sorgt für einen Abend\, der in Erinnerung bleibt. \nReserviere dir rechtzeitig deinen Platz und sichere dir einen Spot für dieses Topspiel. Gerade bei großen Duellen wie diesem ist die Nachfrage hoch und die besten Plätze sind schnell vergeben. Im Munchy erwartet dich ein rundum intensives Erlebnis\, das weit über ein normales Fußballschauen hinausgeht. Von der ersten Minute bis zum Abpfiff bist du Teil einer Crowd\, die jede Szene gemeinsam lebt. Sei dabei und erlebe Manchester United gegen Liverpool in einer Atmosphäre\, die den Unterschied macht.
URL:https://urbankitchen.at/event/manu-liverpool-03-05-26/
LOCATION:Munchy The Urban Kitchen\, Franz-Josefs-Kai 57\, Wien\, 1010\, Austria
CATEGORIES:sport
ATTACH;FMTTYPE=image/png:https://urbankitchen.at/wp-content/uploads/2026/04/UnitedLiverpool.png
ORGANIZER;CN="Munchy The Urban Kitchen":MAILTO:office@munchy.at
END:VEVENT
BEGIN:VEVENT
DTSTART;TZID=UTC:20260503T210000
DTEND;TZID=UTC:20260503T230000
DTSTAMP:20260424T151820
CREATED:20260424T105037Z
LAST-MODIFIED:20260424T110037Z
UID:5479-1777842000-1777849200@urbankitchen.at
SUMMARY:Espanyol-Real Madrid - 03/05/2026
DESCRIPTION:Erlebe ein intensives La-Liga-Duell zwischen Espanyol und Real Madrid in einer Atmosphäre\, die dich von der ersten Minute an mitreißt. Im Munchy am Schottenring wird dieses Spiel zu einem echten Highlight\, bei dem Tempo\, Qualität und Emotionen aufeinandertreffen. Die großen Screens und der klare Sound sorgen dafür\, dass du jede Szene gestochen scharf verfolgen kannst. Gleichzeitig entsteht durch die energiegeladene Crowd eine Dynamik\, die dich direkt ins Spiel hineinzieht. Hier wird Fußball nicht nur geschaut\, sondern gemeinsam erlebt. \nWenn Real Madrid auf Espanyol trifft\, ist ein Spiel voller Spannung und spielerischer Klasse garantiert. Genau diese Intensität wird im Munchy verstärkt und auf ein neues Level gehoben. Jeder Zweikampf\, jede Torchance und jede spielentscheidende Aktion sorgt für unmittelbare Reaktionen im Raum. Die Atmosphäre baut sich mit jeder Minute weiter auf und steigert sich bis zu den entscheidenden Momenten. Es ist diese kollektive Energie\, die das Erlebnis so besonders macht. \nDas Munchy am Schottenring steht für ein modernes Umfeld mit echtem Stadiongefühl mitten in Wien. Hochwertige Drinks\, starke Food-Optionen und eine durchgehend lebendige Stimmung schaffen die perfekte Umgebung für Topspiele dieser Kategorie. Ob du mit Freunden kommst oder spontan vor Ort bist\, die gemeinsame Begeisterung verbindet sofort. Jeder Platz bietet dir eine optimale Sicht auf das Spielgeschehen. Die Kombination aus Fußball und Atmosphäre sorgt für ein Erlebnis\, das in Erinnerung bleibt. \nReserviere dir rechtzeitig deinen Platz und sichere dir deinen Spot für dieses Topspiel. Gerade bei Spielen mit Real Madrid ist die Nachfrage hoch und die besten Plätze sind schnell vergeben. Im Munchy erwartet dich ein rundum intensiver Fußballabend\, der weit über ein normales Spiel hinausgeht. Von der ersten Minute bis zum Abpfiff bist du Teil einer Crowd\, die jede Szene gemeinsam lebt. Sei dabei und erlebe Espanyol gegen Real Madrid in einer Atmosphäre\, die den Unterschied macht.
URL:https://urbankitchen.at/event/real-espanyol-03-05-26/
LOCATION:Munchy The Urban Kitchen\, Franz-Josefs-Kai 57\, Wien\, 1010\, Austria
CATEGORIES:sport
ATTACH;FMTTYPE=image/png:https://urbankitchen.at/wp-content/uploads/2026/04/RealEspanyol.png
ORGANIZER;CN="Munchy The Urban Kitchen":MAILTO:office@munchy.at
END:VEVENT
BEGIN:VEVENT
DTSTART;TZID=UTC:20260504T160000
DTEND;TZID=UTC:20260504T180000
DTSTAMP:20260424T151820
CREATED:20260424T113559Z
LAST-MODIFIED:20260424T113559Z
UID:5491-1777910400-1777917600@urbankitchen.at
SUMMARY:Chelsea-Nottingham Forest - 04/05/2026
DESCRIPTION:Erlebe ein spannendes Premier-League-Duell zwischen Chelsea und Nottingham Forest im Munchy am Schottenring und tauche ein in eine Atmosphäre\, die dich von der ersten Minute an mitreißt. Wenn diese beiden Teams aufeinandertreffen\, erwartet dich ein intensives Spiel voller Tempo\, Zweikämpfe und entscheidender Momente. Im Munchy wird dieses Match zu einem echten Erlebnis\, bei dem jede Szene direkt spürbar wird. Große Screens\, klarer Sound und eine energiegeladene Crowd sorgen dafür\, dass du keine Sekunde verpasst. Hier wird Fußball nicht nur geschaut\, sondern gemeinsam gelebt. \nDie Premier League steht für Dynamik und Intensität und genau das bringt dieses Duell auf den Platz. Diese Energie überträgt sich im Munchy unmittelbar in den Raum und sorgt für eine durchgehend elektrisierende Stimmung. Jeder Zweikampf\, jede Torchance und jede spielentscheidende Aktion löst unmittelbare Reaktionen aus. Die Atmosphäre steigert sich mit jeder Minute und erreicht ihren Höhepunkt bei den entscheidenden Szenen. Es ist diese kollektive Spannung\, die den Abend so besonders macht. \nDas Munchy am Schottenring bietet dir ein modernes Umfeld mit echtem Stadiongefühl mitten in Wien. Hochwertige Drinks\, starke Food-Optionen und eine lebendige Crowd schaffen die perfekte Kombination für große Fußballabende. Ob du mit Freunden kommst oder spontan vorbeischaust\, die gemeinsame Begeisterung verbindet sofort. Jeder Platz bietet dir eine optimale Sicht auf das Spielgeschehen. Die Verbindung aus Fußball und Atmosphäre macht den Unterschied. \nReserviere dir rechtzeitig deinen Platz und sichere dir deinen Spot für dieses Premier-League-Spiel. Gerade bei internationalen Topligen ist die Nachfrage hoch und die besten Plätze sind schnell vergeben. Im Munchy erwartet dich ein Fußballerlebnis\, das weit über ein normales Spiel hinausgeht. Von der ersten Minute bis zum Abpfiff bist du Teil einer Crowd\, die jede Szene gemeinsam erlebt. Sei dabei und erlebe Chelsea gegen Nottingham Forest in einer Atmosphäre\, die den Unterschied macht.
URL:https://urbankitchen.at/event/chelsea-nottingham-04-05-26/
LOCATION:Munchy The Urban Kitchen\, Franz-Josefs-Kai 57\, Wien\, 1010\, Austria
CATEGORIES:sport
ATTACH;FMTTYPE=image/png:https://urbankitchen.at/wp-content/uploads/2026/04/ChelseaNottinghamForest.png
ORGANIZER;CN="Munchy The Urban Kitchen":MAILTO:office@munchy.at
END:VEVENT
BEGIN:VEVENT
DTSTART;TZID=UTC:20260504T203000
DTEND;TZID=UTC:20260504T223000
DTSTAMP:20260424T151820
CREATED:20260424T111329Z
LAST-MODIFIED:20260424T111329Z
UID:5488-1777926600-1777933800@urbankitchen.at
SUMMARY:LASK Linz-Rapid Wien - 04/05/2026
DESCRIPTION:Erlebe ein intensives österreichisches Topduell zwischen LASK und Rapid Wien im Munchy am Schottenring und tauche ein in eine Atmosphäre\, die dich von der ersten Minute an mitreißt. Wenn diese beiden Teams aufeinandertreffen\, ist Spannung garantiert und genau diese Energie wird im Munchy auf ein neues Level gehoben. Große Screens\, klarer Sound und eine leidenschaftliche Crowd sorgen dafür\, dass du jede Szene hautnah erlebst. Hier geht es nicht nur darum\, das Spiel zu sehen\, sondern es gemeinsam zu fühlen. Jeder Moment wird Teil einer kollektiven Emotion. \nDas Duell LASK gegen Rapid bringt Intensität\, Tempo und echte Rivalität auf den Platz. Genau diese Dynamik überträgt sich direkt in den Raum und sorgt für eine elektrisierende Stimmung. Jeder Zweikampf\, jede Torchance und jede spielentscheidende Aktion wird im Munchy zum gemeinsamen Erlebnis. Die Energie steigt mit jeder Minute und erreicht ihren Höhepunkt bei den entscheidenden Momenten. Es ist diese Kombination aus Spiel und Atmosphäre\, die den Abend besonders macht. \nDas Munchy am Schottenring steht für modernes Design\, hochwertige Drinks und ein Setting\, das echtes Stadiongefühl vermittelt. Während das Spiel läuft\, entsteht eine durchgehend lebendige Stimmung\, die du so nicht einfach zu Hause erleben kannst. Ob du mit Freunden kommst oder spontan vor Ort bist\, die gemeinsame Begeisterung verbindet sofort. Jeder Platz bietet dir eine optimale Sicht auf das Geschehen. Die Kombination aus Fußball und Crowd sorgt für ein intensives Erlebnis. \nReserviere dir rechtzeitig deinen Platz und sichere dir deinen Spot für dieses österreichische Topspiel. Gerade bei solchen Duellen ist die Nachfrage hoch und die besten Plätze sind schnell vergeben. Im Munchy erwartet dich ein Fußballabend\, der Spannung\, Energie und Gemeinschaft perfekt verbindet. Von der ersten Minute bis zum Abpfiff bist du Teil eines Erlebnisses\, das dich mitreißt. Sei dabei und erlebe LASK gegen Rapid Wien in einer Atmosphäre\, die den Unterschied macht.
URL:https://urbankitchen.at/event/lask-rapid-04-05-26/
LOCATION:Munchy The Urban Kitchen\, Franz-Josefs-Kai 57\, Wien\, 1010\, Austria
CATEGORIES:sport
ATTACH;FMTTYPE=image/png:https://urbankitchen.at/wp-content/uploads/2026/04/LaskRapid.png
ORGANIZER;CN="Munchy The Urban Kitchen":MAILTO:office@munchy.at
END:VEVENT
BEGIN:VEVENT
DTSTART;TZID=UTC:20260504T210000
DTEND;TZID=UTC:20260504T230000
DTSTAMP:20260424T151820
CREATED:20260424T113915Z
LAST-MODIFIED:20260424T113915Z
UID:5494-1777928400-1777935600@urbankitchen.at
SUMMARY:Everton-Manchester City - 04/05/2026
DESCRIPTION:Erlebe ein intensives Premier-League-Duell zwischen Everton und Manchester City im Munchy am Schottenring und tauche ein in eine Atmosphäre\, die dich von der ersten Minute an mitreißt. Wenn diese beiden Teams aufeinandertreffen\, erwartet dich ein Spiel voller Tempo\, Qualität und entscheidender Momente. Im Munchy wird dieses Match zu einem echten Erlebnis\, bei dem jede Szene direkt spürbar wird. Große Screens\, klarer Sound und eine energiegeladene Crowd sorgen dafür\, dass du keine Sekunde verpasst. Hier wird Fußball nicht nur geschaut\, sondern gemeinsam gelebt. \nDie Premier League steht für Dynamik und Intensität und genau das bringt dieses Duell auf den Platz. Diese Energie überträgt sich im Munchy unmittelbar in den Raum und sorgt für eine durchgehend elektrisierende Stimmung. Jeder Zweikampf\, jede Torchance und jede spielentscheidende Aktion löst direkte Reaktionen aus. Die Atmosphäre steigert sich mit jeder Minute und erreicht ihren Höhepunkt bei den entscheidenden Szenen. Es ist diese kollektive Spannung\, die den Abend so besonders macht. \nDas Munchy am Schottenring bietet dir ein modernes Umfeld mit echtem Stadiongefühl mitten in Wien. Hochwertige Drinks\, starke Food-Optionen und eine lebendige Crowd schaffen die perfekte Kombination für große Fußballabende. Ob du mit Freunden kommst oder spontan vorbeischaust\, die gemeinsame Begeisterung verbindet sofort. Jeder Platz bietet dir eine optimale Sicht auf das Spielgeschehen. Die Verbindung aus Fußball und Atmosphäre macht den Unterschied. \nReserviere dir rechtzeitig deinen Platz und sichere dir deinen Spot für dieses Topspiel. Gerade bei einem Team wie Manchester City ist die Nachfrage hoch und die besten Plätze sind schnell vergeben. Im Munchy erwartet dich ein Fußballerlebnis\, das weit über ein normales Spiel hinausgeht. Von der ersten Minute bis zum Abpfiff bist du Teil einer Crowd\, die jede Szene gemeinsam erlebt. Sei dabei und erlebe Everton gegen Manchester City in einer Atmosphäre\, die den Unterschied macht.
URL:https://urbankitchen.at/event/everton-city-04-05-26/
LOCATION:Munchy The Urban Kitchen\, Franz-Josefs-Kai 57\, Wien\, 1010\, Austria
CATEGORIES:sport
ATTACH;FMTTYPE=image/png:https://urbankitchen.at/wp-content/uploads/2026/04/EvertonCity.png
ORGANIZER;CN="Munchy The Urban Kitchen":MAILTO:office@munchy.at
END:VEVENT
END:VCALENDAR