BEGIN:VCALENDAR
VERSION:2.0
PRODID:-//Munchy The Urban Kitchen - ECPv6.15.12.2//NONSGML v1.0//EN
CALSCALE:GREGORIAN
METHOD:PUBLISH
X-WR-CALNAME:Munchy The Urban Kitchen
X-ORIGINAL-URL:https://urbankitchen.at
X-WR-CALDESC:Veranstaltungen für Munchy The Urban Kitchen
REFRESH-INTERVAL;VALUE=DURATION:PT1H
X-Robots-Tag:noindex
X-PUBLISHED-TTL:PT1H
BEGIN:VTIMEZONE
TZID:UTC
BEGIN:STANDARD
TZOFFSETFROM:+0000
TZOFFSETTO:+0000
TZNAME:UTC
DTSTART:20250101T000000
END:STANDARD
END:VTIMEZONE
BEGIN:VEVENT
DTSTART;TZID=UTC:20260424T203000
DTEND;TZID=UTC:20260424T223000
DTSTAMP:20260424T152037
CREATED:20260402T103834Z
LAST-MODIFIED:20260402T103834Z
UID:5243-1777062600-1777069800@urbankitchen.at
SUMMARY:RB Leipzig-Union Berlin - 24/04/2026
DESCRIPTION:Wenn RB Leipzig auf Union Berlin trifft\, wird Munchy am Schottenring zur Bühne für einen intensiven Fußballabend voller Tempo\, Emotion und echter Stadionatmosphäre. Große Screens\, kraftvoller Sound und eine mitreißende Crowd sorgen dafür\, dass du jede Aktion hautnah erlebst und das Spiel in seiner ganzen Dynamik spürst. \nSchon vor dem Anpfiff liegt Spannung in der Luft. Fans kommen zusammen\, diskutieren\, fiebern mit und lassen sich vom Rhythmus des Spiels tragen. Jeder Zweikampf\, jeder schnelle Angriff und jeder Torabschluss wird gemeinsam erlebt und gefeiert\, als wärst du direkt im Stadion dabei. Genau diese Energie macht den Unterschied und verwandelt einen gewöhnlichen Fußballabend in ein echtes Highlight. \nAbseits des Spielfelds erwartet dich alles\, was einen perfekten Matchday ausmacht: frisch zubereitete Burger\, knusprige Fries und perfekt gekühlte Drinks\, die das Erlebnis abrunden. Munchy verbindet hochwertige Küche mit einer Atmosphäre\, die Fußball nicht nur zeigt\, sondern fühlbar macht. \nFreitag\, 24.04.2026 um 20:30 Uhr – sei dabei und erlebe RB Leipzig gegen Union Berlin in einer Umgebung\, die Spannung\, Leidenschaft und Stadionfeeling auf ein neues Level bringt.
URL:https://urbankitchen.at/event/leipzig-berlin-24-04-26/
LOCATION:Munchy The Urban Kitchen\, Franz-Josefs-Kai 57\, Wien\, 1010\, Austria
CATEGORIES:sport
ATTACH;FMTTYPE=image/jpeg:https://urbankitchen.at/wp-content/uploads/2026/04/BundesligaFreitag_24.04.26.jpg
ORGANIZER;CN="Munchy The Urban Kitchen":MAILTO:office@munchy.at
END:VEVENT
BEGIN:VEVENT
DTSTART;TZID=UTC:20260424T210000
DTEND;TZID=UTC:20260424T230000
DTSTAMP:20260424T152037
CREATED:20260409T083932Z
LAST-MODIFIED:20260409T083932Z
UID:5282-1777064400-1777071600@urbankitchen.at
SUMMARY:Real Betis-Real Madrid - 24/04/2026
DESCRIPTION:Erlebe einen intensiven Fußballabend in einer Atmosphäre\, die näher am Stadion kaum sein könnte. Wenn Real Betis auf Real Madrid trifft\, wird Munchy am Schottenring zum Treffpunkt für alle\, die Fußball nicht nur schauen\, sondern fühlen wollen. Große Screens\, klarer Sound und eine energiegeladene Crowd schaffen genau die Stimmung\, die ein Spiel auf diesem Niveau verdient. \nAm 24.04.2026 um 21:00 Uhr erwartet dich ein spanisches Top-Duell voller Tempo\, Technik und Emotion. Real Betis bringt Leidenschaft\, Dynamik und mutigen Offensivfußball auf den Platz\, während Real Madrid mit Erfahrung\, individueller Klasse und eiskalter Effizienz antwortet. Zwei Spielstile\, zwei Mentalitäten – ein Match\, das von der ersten Minute an Spannung verspricht. \nBei Munchy wird dieser Abend mehr als nur ein Spiel. Saftige Smash Burger\, perfekt abgestimmte Snacks und eiskalte Drinks sorgen dafür\, dass du das Spiel nicht nur siehst\, sondern komplett erlebst. Egal ob mit Freunden oder spontan vor Ort – hier entsteht genau die Mischung aus Sport\, Genuss und Atmosphäre\, die einen Fußballabend unvergesslich macht. \nSichere dir deinen Platz\, komm früh für die beste Stimmung und sei dabei\, wenn dieses Duell live auf unseren Screens zum Leben erwacht. Munchy am Schottenring – dein Spot für große Fußballnächte in Wien.
URL:https://urbankitchen.at/event/betis-real-madrid-24-04-26/
LOCATION:Munchy The Urban Kitchen\, Franz-Josefs-Kai 57\, Wien\, 1010\, Austria
CATEGORIES:sport
ATTACH;FMTTYPE=image/jpeg:https://urbankitchen.at/wp-content/uploads/2026/04/RealBetisRealMadrid.jpg
ORGANIZER;CN="Munchy The Urban Kitchen":MAILTO:office@munchy.at
END:VEVENT
END:VCALENDAR