BEGIN:VCALENDAR
VERSION:2.0
PRODID:-//Munchy The Urban Kitchen - ECPv6.15.12.2//NONSGML v1.0//EN
CALSCALE:GREGORIAN
METHOD:PUBLISH
X-ORIGINAL-URL:https://urbankitchen.at
X-WR-CALDESC:Veranstaltungen für Munchy The Urban Kitchen
REFRESH-INTERVAL;VALUE=DURATION:PT1H
X-Robots-Tag:noindex
X-PUBLISHED-TTL:PT1H
BEGIN:VTIMEZONE
TZID:UTC
BEGIN:STANDARD
TZOFFSETFROM:+0000
TZOFFSETTO:+0000
TZNAME:UTC
DTSTART:20250101T000000
END:STANDARD
END:VTIMEZONE
BEGIN:VEVENT
DTSTART;TZID=UTC:20260626T220000
DTEND;TZID=UTC:20260627T060000
DTSTAMP:20260424T182934
CREATED:20260416T105713Z
LAST-MODIFIED:20260416T105713Z
UID:5344-1782511200-1782540000@urbankitchen.at
SUMMARY:Türkei-USA - 26/06/2026
DESCRIPTION:Erlebe ein hochspannendes Duell der FIFA Weltmeisterschaft 2026 live bei Munchy am Schottenring in Wien\, wenn die Türkei auf die USA trifft und zwei dynamische Teams mit unterschiedlichen Spielphilosophien aufeinandertreffen. Dieses Spiel steht für Intensität\, Tempo und internationale Fußballatmosphäre\, während beide Mannschaften alles daransetzen\, sich im Turnier durchzusetzen und wichtige Punkte zu sichern. \nAm 26. Juni 2026 beginnt das Event bereits ab 22:00 Uhr mit einer entspannten Pre-Match-Phase\, in der sich Gäste auf das bevorstehende Spiel einstimmen können. In dieser Zeit entsteht eine besondere Stimmung\, geprägt von Vorfreude\, Gesprächen unter Fußballfans und der Energie eines globalen Sportereignisses. Besucher haben die Möglichkeit\, hochwertige Speisen und Drinks zu genießen und Teil einer lebendigen Community zu werden\, die dieses Spiel gemeinsam erlebt. \nDer Anpfiff erfolgt um 04:00 Uhr und verspricht ein intensives und temporeiches Spiel. Die Türkei bringt technische Qualität\, Kreativität und emotionale Leidenschaft auf den Platz\, während die USA mit Athletik\, Geschwindigkeit und einem modernen\, dynamischen Spielstil überzeugt. Diese Kombination sorgt für ein Duell\, das sowohl taktisch als auch emotional aufgeladen ist und jederzeit für entscheidende Momente sorgen kann. \nMunchy am Schottenring bietet den idealen Rahmen\, um dieses Spiel nicht allein\, sondern gemeinsam mit anderen Fans zu erleben. Die zentrale Lage im Herzen Wiens\, das moderne Ambiente und die Ausrichtung auf Live-Sport schaffen eine Atmosphäre\, die weit über das klassische Fußballschauen hinausgeht. Große Screens\, eine angenehme Umgebung und die Möglichkeit\, das Event als sozialen Treffpunkt zu nutzen\, machen diesen Abend zu einem besonderen Highlight der Weltmeisterschaft. \nOb als leidenschaftlicher Fußballfan\, als Teil einer internationalen Community oder einfach\, um die besondere Atmosphäre eines WM-Spiels zu erleben – dieses Duell zwischen der Türkei und den USA bietet dir die perfekte Gelegenheit dazu. Reservierungen sind über urbankitchen.at möglich\, um dir einen Platz bei diesem besonderen Event in Wien zu sichern.
URL:https://urbankitchen.at/event/turkei-usa-26-06-26/
LOCATION:Munchy The Urban Kitchen\, Franz-Josefs-Kai 57\, Wien\, 1010\, Austria
CATEGORIES:sport
ATTACH;FMTTYPE=image/jpeg:https://urbankitchen.at/wp-content/uploads/2026/04/TurkeiUsa-v3.jpg
ORGANIZER;CN="Munchy The Urban Kitchen":MAILTO:office@munchy.at
END:VEVENT
BEGIN:VEVENT
DTSTART;TZID=UTC:20260627T230000
DTEND;TZID=UTC:20260628T010000
DTSTAMP:20260424T182934
CREATED:20260417T120401Z
LAST-MODIFIED:20260417T120401Z
UID:5428-1782601200-1782608400@urbankitchen.at
SUMMARY:Panama-England - 27/06/2026
DESCRIPTION:Panama gegen England – dieses mit Spannung erwartete Duell der FIFA Weltmeisterschaft 2026 findet am 27.06.2026 um 23:00 Uhr statt und wird im Munchy am Schottenring zu einem intensiven Live-Erlebnis\, bei dem Fußballfans jede Sekunde in einer energiegeladenen Atmosphäre miterleben können. \nAuf dem Platz treffen zwei völlig unterschiedliche Fußballwelten aufeinander: England bringt internationale Klasse\, Tempo und individuelle Qualität mit\, während Panama mit Leidenschaft\, Kampfgeist und Teamzusammenhalt überzeugt. Genau dieser Kontrast sorgt für eine besondere Dynamik\, bei der jeder Angriff\, jeder Zweikampf und jede Torchance für Spannung sorgt und das Spiel jederzeit kippen kann. \nIm Munchy am Schottenring wird dieses Spiel weit mehr als nur übertragen – es wird zelebriert. Große Screens\, ein klarer Sound\, eine dichte Crowd und die unmittelbare Nähe zum Geschehen schaffen eine Atmosphäre\, die das Stadiongefühl direkt ins Herz von Wien bringt. Dazu kommen hochwertige Drinks und Food\, die das gesamte Erlebnis abrunden und den Abend zu einem echten Highlight der Weltmeisterschaft machen. \nWer dieses Spiel nicht nur sehen\, sondern wirklich fühlen möchte\, findet hier den perfekten Ort. Die Kombination aus intensiver Stimmung\, leidenschaftlichen Fans und einem spannenden Spiel sorgt dafür\, dass dieser Abend lange in Erinnerung bleibt und weit über ein gewöhnliches Fußball-Viewing hinausgeht.
URL:https://urbankitchen.at/event/panama-england-27-06-26/
LOCATION:Munchy The Urban Kitchen\, Franz-Josefs-Kai 57\, Wien\, 1010\, Austria
CATEGORIES:sport
ATTACH;FMTTYPE=image/jpeg:https://urbankitchen.at/wp-content/uploads/2026/04/PanamaEngland.jpg
ORGANIZER;CN="Munchy The Urban Kitchen":MAILTO:office@munchy.at
END:VEVENT
BEGIN:VEVENT
DTSTART;TZID=UTC:20260627T230000
DTEND;TZID=UTC:20260628T010000
DTSTAMP:20260424T182934
CREATED:20260417T120552Z
LAST-MODIFIED:20260417T120552Z
UID:5432-1782601200-1782608400@urbankitchen.at
SUMMARY:Kroatien-Ghana - 27/06/2026
DESCRIPTION:Kroatien gegen Ghana – dieses packende Duell der FIFA Weltmeisterschaft 2026 findet am 27.06.2026 um 23:00 Uhr statt und wird im Munchy am Schottenring zu einem intensiven Live-Erlebnis\, bei dem jede Spielminute in einer mitreißenden Atmosphäre spürbar wird. \nAuf dem Spielfeld treffen zwei Teams aufeinander\, die für unterschiedliche Spielphilosophien stehen: Kroatien überzeugt mit technischer Qualität\, Spielkontrolle und internationaler Erfahrung\, während Ghana für Dynamik\, Athletik und kompromisslosen Einsatz bekannt ist. Diese Kombination sorgt für ein Spiel\, das von Anfang an Spannung verspricht und in dem sich das Momentum jederzeit drehen kann. \nDas Munchy am Schottenring verwandelt sich an diesem Abend in einen echten Treffpunkt für Fußballfans\, die das Spiel nicht nur sehen\, sondern fühlen wollen. Große Screens\, klarer Sound und eine energiegeladene Crowd sorgen dafür\, dass jede Aktion intensiv miterlebt wird\, während Food und Drinks das gesamte Erlebnis auf ein neues Level heben. \nWer ein WM-Spiel in einer Atmosphäre erleben möchte\, die an Stadionfeeling erinnert\, ist hier genau richtig. Die Kombination aus hochklassigem Fußball\, leidenschaftlicher Stimmung und einer einzigartigen Location macht diesen Abend zu einem besonderen Highlight der Weltmeisterschaft.
URL:https://urbankitchen.at/event/kroatien-ghana-27-06-26/
LOCATION:Munchy The Urban Kitchen\, Franz-Josefs-Kai 57\, Wien\, 1010\, Austria
CATEGORIES:sport
ATTACH;FMTTYPE=image/jpeg:https://urbankitchen.at/wp-content/uploads/2026/04/KroatienGhana.jpg
ORGANIZER;CN="Munchy The Urban Kitchen":MAILTO:office@munchy.at
END:VEVENT
END:VCALENDAR