BEGIN:VCALENDAR
VERSION:2.0
PRODID:-//Munchy The Urban Kitchen - ECPv6.15.12.2//NONSGML v1.0//EN
CALSCALE:GREGORIAN
METHOD:PUBLISH
X-WR-CALNAME:Munchy The Urban Kitchen
X-ORIGINAL-URL:https://urbankitchen.at
X-WR-CALDESC:Veranstaltungen für Munchy The Urban Kitchen
REFRESH-INTERVAL;VALUE=DURATION:PT1H
X-Robots-Tag:noindex
X-PUBLISHED-TTL:PT1H
BEGIN:VTIMEZONE
TZID:UTC
BEGIN:STANDARD
TZOFFSETFROM:+0000
TZOFFSETTO:+0000
TZNAME:UTC
DTSTART:20250101T000000
END:STANDARD
END:VTIMEZONE
BEGIN:VEVENT
DTSTART;TZID=UTC:20260624T010000
DTEND;TZID=UTC:20260624T030000
DTSTAMP:20260424T182535
CREATED:20260417T113524Z
LAST-MODIFIED:20260417T113524Z
UID:5403-1782262800-1782270000@urbankitchen.at
SUMMARY:Panama-Kroatien - 24/06/2026
DESCRIPTION:Am 24.06.2026 trifft Panama bei der FIFA Weltmeisterschaft auf Kroatien – ein spannendes Duell zwischen einer kämpferischen Mannschaft mit viel Energie und einem international erfahrenen Team mit hoher spielerischer Qualität. Der Anpfiff erfolgt um 01:00 Uhr und bringt ein intensives Spiel auf den Bildschirm\, das durch Tempo\, Zweikämpfe und taktische Disziplin geprägt sein wird. \nKroatien geht mit einer technisch starken und strukturierten Spielweise in die Partie\, während Panama mit Einsatz\, Dynamik und unermüdlichem Druck dagegenhält und jederzeit für überraschende Momente sorgen kann. Genau diese Kombination macht das Spiel besonders unberechenbar und sorgt für eine durchgehend hohe Spannung. \nIm Munchy am Schottenring wird dieses WM-Spiel zu einem echten Erlebnis\, bei dem die Atmosphäre\, die Crowd und die Emotionen jedes Spielmoment verstärken und aus einer einfachen Übertragung ein gemeinsames Event machen. Jeder Angriff\, jeder Zweikampf und jedes Tor wird hier intensiv mitgefühlt. \nErlebe Panama gegen Kroatien live im Munchy am Schottenring in Wien und genieße Fußball auf höchstem Niveau in einer Umgebung\, die durch starke Vibes\, gutes Essen\, ausgewählte Drinks und eine leidenschaftliche Community geprägt ist.
URL:https://urbankitchen.at/event/panama-kroatien-24-06-26/
LOCATION:Munchy The Urban Kitchen\, Franz-Josefs-Kai 57\, Wien\, 1010\, Austria
CATEGORIES:sport
ATTACH;FMTTYPE=image/jpeg:https://urbankitchen.at/wp-content/uploads/2026/04/PanamaKroatien.jpg
ORGANIZER;CN="Munchy The Urban Kitchen":MAILTO:office@munchy.at
END:VEVENT
BEGIN:VEVENT
DTSTART;TZID=UTC:20260624T210000
DTEND;TZID=UTC:20260624T230000
DTSTAMP:20260424T182535
CREATED:20260417T113828Z
LAST-MODIFIED:20260417T113828Z
UID:5406-1782334800-1782342000@urbankitchen.at
SUMMARY:Schweiz-Kanada - 24/06/2026
DESCRIPTION:Am 24.06.2026 trifft die Schweiz bei der FIFA Weltmeisterschaft auf Kanada – ein intensives und spannungsgeladenes Duell zweier Teams\, die mit Tempo\, Einsatz und taktischer Disziplin überzeugen wollen. Der Anpfiff erfolgt um 21:00 Uhr und verspricht ein Spiel\, in dem jede Aktion entscheidend sein kann und beide Mannschaften alles daransetzen werden\, wichtige Punkte zu sichern. \nDie Schweiz bringt eine kompakte\, strukturierte Spielweise mit\, kombiniert mit technischer Qualität und klarem Positionsspiel\, während Kanada mit Dynamik\, Athletik und direktem Offensivfußball antwortet. Diese Mischung sorgt für ein Spiel mit hohem Tempo\, vielen Umschaltmomenten und der ständigen Gefahr von überraschenden Wendungen. \nIm Munchy am Schottenring wird dieses WM-Spiel zu einem echten Erlebnis\, bei dem sich die Energie des Spiels direkt auf die Crowd überträgt und jede Szene gemeinsam gefeiert wird. Die Kombination aus großem Fußball\, intensiver Stimmung und einer leidenschaftlichen Community macht diesen Abend zu mehr als nur einer Übertragung. \nErlebe Schweiz gegen Kanada live im Munchy am Schottenring in Wien und genieße ein Fußballerlebnis\, das durch starke Vibes\, hochwertige Drinks und eine einzigartige Atmosphäre geprägt ist.
URL:https://urbankitchen.at/event/schweiz-kanada-24-06-26/
LOCATION:Munchy The Urban Kitchen\, Franz-Josefs-Kai 57\, Wien\, 1010\, Austria
CATEGORIES:sport
ATTACH;FMTTYPE=image/jpeg:https://urbankitchen.at/wp-content/uploads/2026/04/SchweizKanada.jpg
ORGANIZER;CN="Munchy The Urban Kitchen":MAILTO:office@munchy.at
END:VEVENT
BEGIN:VEVENT
DTSTART;TZID=UTC:20260624T210000
DTEND;TZID=UTC:20260624T230000
DTSTAMP:20260424T182535
CREATED:20260417T114044Z
LAST-MODIFIED:20260417T114044Z
UID:5409-1782334800-1782342000@urbankitchen.at
SUMMARY:Bosnien-Katar - 24/06/2026
DESCRIPTION:Erlebe das intensive WM-Duell zwischen Bosnien und Katar am 24.06.2026 um 21:00 Uhr live im Munchy am Schottenring und tauche ein in eine elektrisierende Atmosphäre\, in der sich internationale Fußballkultur\, leidenschaftliche Fans und packende Spielmomente zu einem unvergesslichen Abend verbinden. \nIm Herzen Wiens erwartet dich eine einzigartige Kombination aus hochwertigem Streetfood\, erstklassigen Drinks und einer energiegeladenen Crowd\, die jedes Tor\, jede Chance und jede entscheidende Szene gemeinsam feiert und das Spiel zu einem echten Live-Erlebnis macht. \nOb du mit Freunden kommst oder neue Leute kennenlernen willst\, Munchy bietet dir den perfekten Ort\, um Fußball nicht nur zu schauen\, sondern gemeinsam zu fühlen\, mitzufiebern und Teil einer vibenden Community zu sein\, die den Spirit der Weltmeisterschaft voll auslebt. \nSichere dir rechtzeitig deinen Platz und sei dabei\, wenn Bosnien und Katar aufeinandertreffen und Munchy am Schottenring erneut zum Treffpunkt für echte Fußballstimmung\, starke Emotionen und einen Abend wird\, der weit über 90 Minuten hinaus in Erinnerung bleibt.
URL:https://urbankitchen.at/event/bosnien-katar-24-06-26/
LOCATION:Munchy The Urban Kitchen\, Franz-Josefs-Kai 57\, Wien\, 1010\, Austria
CATEGORIES:sport
ATTACH;FMTTYPE=image/jpeg:https://urbankitchen.at/wp-content/uploads/2026/04/BosnienKatar.jpg
ORGANIZER;CN="Munchy The Urban Kitchen":MAILTO:office@munchy.at
END:VEVENT
END:VCALENDAR