BEGIN:VCALENDAR
VERSION:2.0
PRODID:-//Munchy The Urban Kitchen - ECPv6.15.12.2//NONSGML v1.0//EN
CALSCALE:GREGORIAN
METHOD:PUBLISH
X-WR-CALNAME:Munchy The Urban Kitchen
X-ORIGINAL-URL:https://urbankitchen.at
X-WR-CALDESC:Veranstaltungen für Munchy The Urban Kitchen
REFRESH-INTERVAL;VALUE=DURATION:PT1H
X-Robots-Tag:noindex
X-PUBLISHED-TTL:PT1H
BEGIN:VTIMEZONE
TZID:UTC
BEGIN:STANDARD
TZOFFSETFROM:+0000
TZOFFSETTO:+0000
TZNAME:UTC
DTSTART:20250101T000000
END:STANDARD
END:VTIMEZONE
BEGIN:VEVENT
DTSTART;TZID=UTC:20260619T180000
DTEND;TZID=UTC:20260619T230000
DTSTAMP:20260424T182533
CREATED:20260416T104039Z
LAST-MODIFIED:20260416T104039Z
UID:5329-1781892000-1781910000@urbankitchen.at
SUMMARY:USA-Australien - 19/06/2026
DESCRIPTION:Erlebe ein packendes Duell der FIFA Weltmeisterschaft 2026 live bei Munchy am Schottenring in Wien\, wenn die USA auf Australien treffen und zwei dynamische Teams mit unterschiedlichen Spielstilen aufeinandertreffen. Dieses Spiel verspricht Tempo\, Intensität und internationale Fußballatmosphäre\, während beide Mannschaften um wichtige Punkte im Turnier kämpfen und ihre Qualität auf der großen Bühne unter Beweis stellen. \nAm 19. Juni 2026 beginnt das Event bereits ab 18:00 Uhr mit einer entspannten Pre-Match-Phase\, in der sich Gäste gemeinsam auf das Spiel einstimmen können. In dieser Zeit entsteht eine besondere Stimmung\, geprägt von Vorfreude\, Gesprächen unter Fußballfans und der Energie eines globalen Turniers. Besucher haben die Möglichkeit\, hochwertige Speisen und Drinks zu genießen und Teil einer lebendigen Community zu werden\, die dieses Event gemeinsam erlebt. \nDer Anpfiff erfolgt um 21:00 Uhr und verspricht ein intensives und unterhaltsames Spiel. Die USA bringt eine junge\, athletische und dynamische Mannschaft auf den Platz\, während Australien mit physischer Stärke\, Tempo und kämpferischem Einsatz überzeugt. Diese Kombination sorgt für ein spannendes Duell\, das sowohl taktisch als auch emotional aufgeladen ist und jederzeit für entscheidende Momente sorgen kann. \nMunchy am Schottenring bietet dabei den idealen Rahmen\, um dieses Spiel nicht allein\, sondern gemeinsam mit anderen Fans zu erleben. Die zentrale Lage im Herzen Wiens\, das moderne Ambiente und die Ausrichtung auf Live-Sport schaffen eine Atmosphäre\, die weit über das klassische Fußballschauen hinausgeht. Große Screens\, eine angenehme Umgebung und die Möglichkeit\, das Event als sozialen Treffpunkt zu nutzen\, machen diesen Abend zu einem besonderen Highlight der Weltmeisterschaft. \nOb als leidenschaftlicher Fußballfan\, als Teil einer internationalen Community oder einfach\, um die besondere Atmosphäre eines WM-Spiels zu erleben – dieses Duell zwischen den USA und Australien bietet dir die perfekte Gelegenheit dazu. Reservierungen sind über urbankitchen.at möglich\, um dir einen Platz bei diesem besonderen Event in Wien zu sichern.
URL:https://urbankitchen.at/event/usa-australien-19-06-26/
LOCATION:Munchy The Urban Kitchen\, Franz-Josefs-Kai 57\, Wien\, 1010\, Austria
CATEGORIES:sport
ATTACH;FMTTYPE=image/jpeg:https://urbankitchen.at/wp-content/uploads/2026/04/UsaAustralien-v2.jpg
ORGANIZER;CN="Munchy The Urban Kitchen":MAILTO:office@munchy.at
END:VEVENT
END:VCALENDAR