BEGIN:VCALENDAR
VERSION:2.0
PRODID:-//Munchy The Urban Kitchen - ECPv6.15.12.2//NONSGML v1.0//EN
CALSCALE:GREGORIAN
METHOD:PUBLISH
X-ORIGINAL-URL:https://urbankitchen.at
X-WR-CALDESC:Veranstaltungen für Munchy The Urban Kitchen
REFRESH-INTERVAL;VALUE=DURATION:PT1H
X-Robots-Tag:noindex
X-PUBLISHED-TTL:PT1H
BEGIN:VTIMEZONE
TZID:UTC
BEGIN:STANDARD
TZOFFSETFROM:+0000
TZOFFSETTO:+0000
TZNAME:UTC
DTSTART:20250101T000000
END:STANDARD
END:VTIMEZONE
BEGIN:VEVENT
DTSTART;TZID=UTC:20260614T220000
DTEND;TZID=UTC:20260615T080000
DTSTAMP:20260424T182955
CREATED:20260416T095917Z
LAST-MODIFIED:20260416T100049Z
UID:5320-1781474400-1781510400@urbankitchen.at
SUMMARY:Australien-Türkei - 14/06/2026
DESCRIPTION:Erlebe ein besonderes Highlight der FIFA Weltmeisterschaft 2026 live bei Munchy am Schottenring in Wien\, wenn Australien und die Türkei in einem spannenden Duell aufeinandertreffen und beide Teams um wichtige Punkte im Turnier kämpfen. Dieses Spiel vereint unterschiedliche Fußballkulturen und Spielstile und verspricht ein intensives\, emotionales und dynamisches Erlebnis\, das Fans aus verschiedenen Ländern zusammenbringt. \nAm 14. Juni 2026 beginnt das Event bereits ab 22:00 Uhr mit einer entspannten Pre-Match-Atmosphäre\, in der sich Gäste auf das bevorstehende Spiel einstimmen können. In dieser Phase entsteht eine besondere Stimmung\, geprägt von Vorfreude\, Gesprächen unter Fußballfans und der Energie eines internationalen Turniers. Besucher haben die Möglichkeit\, hochwertige Speisen und Drinks zu genießen und Teil einer lebendigen Community zu werden\, die dieses globale Sportereignis gemeinsam erlebt. \nDer Anpfiff erfolgt um 06:00 Uhr und macht dieses Spiel zu einem besonderen Erlebnis für alle\, die Fußball auch in den frühen Morgenstunden in einer einzigartigen Atmosphäre verfolgen möchten. Australien bringt seine physische Stärke\, Dynamik und Geschwindigkeit auf den Platz\, während die Türkei mit technischer Qualität\, Leidenschaft und offensiver Spielweise überzeugt. Diese Kombination sorgt für ein Duell\, das sowohl taktisch interessant als auch emotional aufgeladen ist und jederzeit für entscheidende Momente sorgen kann. \nMunchy am Schottenring bietet den idealen Rahmen\, um dieses Spiel nicht allein\, sondern gemeinsam mit anderen Fans zu erleben. Die zentrale Lage im Herzen Wiens\, das moderne Ambiente und die gezielte Ausrichtung auf Live-Sport schaffen eine Atmosphäre\, die weit über das klassische Fußballschauen hinausgeht. Große Screens\, eine angenehme Umgebung und die Möglichkeit\, das Event als sozialen Treffpunkt zu nutzen\, machen diesen Morgen zu einem besonderen Highlight im Rahmen der Weltmeisterschaft. \nOb als leidenschaftlicher Fußballfan\, als Teil einer internationalen Community oder einfach\, um die besondere Energie eines WM-Spiels zu erleben – dieses Duell zwischen Australien und der Türkei bietet dir die perfekte Gelegenheit dazu. Reservierungen sind über urbankitchen.at möglich\, um dir einen Platz bei diesem besonderen Event in Wien zu sichern.
URL:https://urbankitchen.at/event/australien-turkei-14-06-26/
LOCATION:Munchy The Urban Kitchen\, Franz-Josefs-Kai 57\, Wien\, 1010\, Austria
CATEGORIES:sport
ATTACH;FMTTYPE=image/jpeg:https://urbankitchen.at/wp-content/uploads/2026/04/AustralienTurkei-v2.jpg
ORGANIZER;CN="Munchy The Urban Kitchen":MAILTO:office@munchy.at
END:VEVENT
BEGIN:VEVENT
DTSTART;TZID=UTC:20260615T180000
DTEND;TZID=UTC:20260615T200000
DTSTAMP:20260424T182955
CREATED:20260417T104148Z
LAST-MODIFIED:20260417T104148Z
UID:5359-1781546400-1781553600@urbankitchen.at
SUMMARY:Spanien-Kapverdische Inseln - 15/06/2026
DESCRIPTION:Erlebe ein spannendes und abwechslungsreiches Duell der FIFA Weltmeisterschaft 2026 live bei Munchy am Schottenring in Wien\, wenn Spanien auf die Kapverdischen Inseln trifft und zwei Teams mit unterschiedlichen Spielphilosophien aufeinandertreffen. Dieses Spiel verspricht Technik\, Tempo und internationale Fußballatmosphäre\, während beide Mannschaften um wichtige Punkte im Turnier kämpfen und ihre Stärken auf der großen Bühne zeigen. \nAm 15. Juni 2026 erfolgt der Anpfiff um 18:00 Uhr und bietet die perfekte Gelegenheit\, einen Weltmeisterschaftsabend in besonderer Atmosphäre zu erleben. Spanien steht für Ballbesitz\, Präzision und kreativen Offensivfußball\, während die Kapverdischen Inseln mit Dynamik\, Physis und schnellem Umschaltspiel überzeugen. Diese Kombination sorgt für ein intensives und spannendes Spiel mit vielen entscheidenden Momenten. \nMunchy am Schottenring bietet den idealen Rahmen\, um dieses Duell gemeinsam mit anderen Fans zu verfolgen. Die zentrale Lage im Herzen Wiens\, das moderne Ambiente und die Ausrichtung auf Live-Sport schaffen eine Atmosphäre\, die weit über das klassische Fußballschauen hinausgeht. Große Screens\, eine angenehme Umgebung und die Möglichkeit\, das Event als sozialen Treffpunkt zu nutzen\, machen diesen Abend zu einem besonderen Highlight der Weltmeisterschaft. \nOb als leidenschaftlicher Fußballfan\, als Teil einer internationalen Community oder einfach\, um die besondere Energie eines WM-Spiels zu erleben – dieses Duell zwischen Spanien und den Kapverdischen Inseln bietet dir die perfekte Gelegenheit dazu. Reservierungen sind über urbankitchen.at möglich\, um dir einen Platz bei diesem besonderen Event in Wien zu sichern.
URL:https://urbankitchen.at/event/spanien-kapverdische-inseln-15-06-26/
LOCATION:Munchy The Urban Kitchen\, Franz-Josefs-Kai 57\, Wien\, 1010\, Austria
CATEGORIES:sport
ATTACH;FMTTYPE=image/jpeg:https://urbankitchen.at/wp-content/uploads/2026/04/SpanienKapverdischeInseln.jpg
ORGANIZER;CN="Munchy The Urban Kitchen":MAILTO:office@munchy.at
END:VEVENT
BEGIN:VEVENT
DTSTART;TZID=UTC:20260615T210000
DTEND;TZID=UTC:20260615T230000
DTSTAMP:20260424T182955
CREATED:20260417T104413Z
LAST-MODIFIED:20260417T104413Z
UID:5362-1781557200-1781564400@urbankitchen.at
SUMMARY:Belgien-Ägypten - 15/06/2026
DESCRIPTION:Erlebe ein spannendes und intensives Duell der FIFA Weltmeisterschaft 2026 live bei Munchy am Schottenring in Wien\, wenn Belgien auf Ägypten trifft und zwei spielstarke Teams mit unterschiedlichen Stärken aufeinandertreffen. Dieses Spiel verspricht Tempo\, Technik und internationale Fußballatmosphäre\, während beide Mannschaften um wichtige Punkte im Turnier kämpfen und ihre Qualität auf der großen Bühne unter Beweis stellen. \nAm 15. Juni 2026 erfolgt der Anpfiff um 21:00 Uhr und bietet die perfekte Gelegenheit\, einen Weltmeisterschaftsabend in besonderer Atmosphäre zu erleben. Belgien steht für offensive Qualität\, Kreativität und individuelle Klasse\, während Ägypten mit Schnelligkeit\, taktischer Disziplin und gefährlichem Umschaltspiel überzeugt. Diese Kombination sorgt für ein intensives und abwechslungsreiches Spiel mit vielen entscheidenden Momenten. \nMunchy am Schottenring bietet den idealen Rahmen\, um dieses Duell gemeinsam mit anderen Fans zu verfolgen. Die zentrale Lage im Herzen Wiens\, das moderne Ambiente und die Ausrichtung auf Live-Sport schaffen eine Atmosphäre\, die weit über das klassische Fußballschauen hinausgeht. Große Screens\, eine angenehme Umgebung und die Möglichkeit\, das Event als sozialen Treffpunkt zu nutzen\, machen diesen Abend zu einem besonderen Highlight der Weltmeisterschaft. \nOb als leidenschaftlicher Fußballfan\, als Teil einer internationalen Community oder einfach\, um die besondere Energie eines WM-Spiels zu erleben – dieses Duell zwischen Belgien und Ägypten bietet dir die perfekte Gelegenheit dazu. Reservierungen sind über urbankitchen.at möglich\, um dir einen Platz bei diesem besonderen Event in Wien zu sichern.
URL:https://urbankitchen.at/event/belgien-agypten-15-06-26/
LOCATION:Munchy The Urban Kitchen\, Franz-Josefs-Kai 57\, Wien\, 1010\, Austria
CATEGORIES:sport
ATTACH;FMTTYPE=image/jpeg:https://urbankitchen.at/wp-content/uploads/2026/04/BelgienAegypten.jpg
ORGANIZER;CN="Munchy The Urban Kitchen":MAILTO:office@munchy.at
END:VEVENT
END:VCALENDAR