BEGIN:VCALENDAR
VERSION:2.0
PRODID:-//Munchy The Urban Kitchen - ECPv6.15.12.2//NONSGML v1.0//EN
CALSCALE:GREGORIAN
METHOD:PUBLISH
X-ORIGINAL-URL:https://urbankitchen.at
X-WR-CALDESC:Veranstaltungen für Munchy The Urban Kitchen
REFRESH-INTERVAL;VALUE=DURATION:PT1H
X-Robots-Tag:noindex
X-PUBLISHED-TTL:PT1H
BEGIN:VTIMEZONE
TZID:UTC
BEGIN:STANDARD
TZOFFSETFROM:+0000
TZOFFSETTO:+0000
TZNAME:UTC
DTSTART:20250101T000000
END:STANDARD
END:VTIMEZONE
BEGIN:VEVENT
DTSTART;TZID=UTC:20260613T220000
DTEND;TZID=UTC:20260614T050000
DTSTAMP:20260424T182817
CREATED:20260416T095551Z
LAST-MODIFIED:20260416T100000Z
UID:5317-1781388000-1781413200@urbankitchen.at
SUMMARY:USA-Paraguay - 13/06/2026
DESCRIPTION:Erlebe ein spannendes Duell der FIFA Weltmeisterschaft 2026 live bei Munchy am Schottenring in Wien\, wenn die USA auf Paraguay treffen und zwei unterschiedliche Fußballstile aufeinandertreffen. Dieses Spiel steht für Dynamik\, Intensität und internationale Konkurrenz auf höchstem Niveau\, während beide Teams um wichtige Punkte im Turnier kämpfen und ihre Ambitionen unter Beweis stellen. \nAm 13. Juni 2026 beginnt das Event bereits ab 22:00 Uhr mit einer entspannten Pre-Match-Atmosphäre\, in der sich Gäste auf das bevorstehende Spiel einstimmen können. In dieser Phase entsteht eine besondere Stimmung\, geprägt von Vorfreude\, Gesprächen unter Fußballfans und dem gemeinsamen Erleben eines globalen Sportevents. Besucher haben die Möglichkeit\, hochwertige Speisen und Drinks zu genießen und Teil einer lebendigen Community zu werden\, die sich rund um dieses Spiel versammelt. \nDer Anpfiff erfolgt um 03:00 Uhr und verspricht ein intensives und temporeiches Spiel. Die USA bringt eine junge\, athletische und dynamische Mannschaft auf den Platz\, während Paraguay für taktische Disziplin\, körperliche Präsenz und kämpferischen Einsatz bekannt ist. Diese Kombination sorgt für ein Spiel\, das sowohl strategisch als auch emotional geprägt sein wird und jederzeit für überraschende Wendungen sorgen kann. \nMunchy am Schottenring bietet den idealen Rahmen\, um dieses Spiel nicht allein\, sondern gemeinsam mit anderen Fans zu erleben. Die zentrale Lage im Herzen Wiens\, das moderne Ambiente und die gezielte Ausrichtung auf Live-Sport schaffen eine Atmosphäre\, die weit über das klassische Fußballschauen hinausgeht. Große Screens\, eine angenehme Umgebung und die Möglichkeit\, das Event als sozialen Treffpunkt zu nutzen\, machen diesen Abend zu einem besonderen Highlight für alle Fußballbegeisterten. \nOb du als leidenschaftlicher Fan kommst\, das Spiel in einer besonderen Umgebung genießen möchtest oder einfach Teil eines internationalen Fußballabends sein willst – dieses WM-Duell zwischen den USA und Paraguay bietet dir die perfekte Gelegenheit dazu. Reservierungen sind über urbankitchen.at möglich\, um dir einen Platz bei diesem besonderen Event in Wien zu sichern.
URL:https://urbankitchen.at/event/usa-paraguay-13-06-26/
LOCATION:Munchy The Urban Kitchen\, Franz-Josefs-Kai 57\, Wien\, 1010\, Austria
CATEGORIES:sport
ATTACH;FMTTYPE=image/jpeg:https://urbankitchen.at/wp-content/uploads/2026/04/USAParaguay-v2.jpg
ORGANIZER;CN="Munchy The Urban Kitchen":MAILTO:office@munchy.at
END:VEVENT
BEGIN:VEVENT
DTSTART;TZID=UTC:20260614T000000
DTEND;TZID=UTC:20260614T020000
DTSTAMP:20260424T182817
CREATED:20260417T103715Z
LAST-MODIFIED:20260417T103715Z
UID:5353-1781395200-1781402400@urbankitchen.at
SUMMARY:Brasilien-Marokko - 14/06/2026
DESCRIPTION:Erlebe ein hochklassiges und mitreißendes Duell der FIFA Weltmeisterschaft 2026 live bei Munchy am Schottenring in Wien\, wenn Brasilien auf Marokko trifft und zwei fußballerisch starke Nationen aufeinandertreffen. Dieses Spiel verspricht Technik\, Tempo und Emotion auf höchstem Niveau\, während beide Teams ihre Qualität auf der großen Bühne unter Beweis stellen und um wichtige Punkte im Turnier kämpfen. \nAm 14. Juni 2026 erfolgt der Anpfiff um 00:00 Uhr und bietet die Möglichkeit\, ein besonderes Nachtspiel der Weltmeisterschaft in einzigartiger Atmosphäre zu erleben. Brasilien steht für kreative Spielweise\, individuelle Klasse und offensiven Fußball\, während Marokko mit taktischer Disziplin\, physischer Stärke und schnellem Umschaltspiel überzeugt. Diese Kombination sorgt für ein spannendes und intensives Spiel mit vielen entscheidenden Momenten. \nMunchy am Schottenring bietet den idealen Rahmen\, um dieses Duell gemeinsam mit anderen Fans zu verfolgen. Die zentrale Lage im Herzen Wiens\, das moderne Ambiente und die Ausrichtung auf Live-Sport schaffen eine Umgebung\, die weit über das klassische Fußballschauen hinausgeht. Große Screens\, eine angenehme Atmosphäre und die Möglichkeit\, das Event als sozialen Treffpunkt zu nutzen\, machen dieses Spiel zu einem besonderen Highlight im Rahmen der Weltmeisterschaft. \nOb als leidenschaftlicher Fußballfan\, als Teil einer internationalen Community oder einfach\, um die besondere Energie eines WM-Spiels zu erleben – dieses Duell zwischen Brasilien und Marokko bietet dir die perfekte Gelegenheit dazu. Reservierungen sind über urbankitchen.at möglich\, um dir einen Platz bei diesem besonderen Event in Wien zu sichern.
URL:https://urbankitchen.at/event/brasilien-marokko-14-06-26/
LOCATION:Munchy The Urban Kitchen\, Franz-Josefs-Kai 57\, Wien\, 1010\, Austria
CATEGORIES:sport
ATTACH;FMTTYPE=image/jpeg:https://urbankitchen.at/wp-content/uploads/2026/04/BrasilienMarokko.jpg
ORGANIZER;CN="Munchy The Urban Kitchen":MAILTO:office@munchy.at
END:VEVENT
BEGIN:VEVENT
DTSTART;TZID=UTC:20260614T160000
DTEND;TZID=UTC:20260614T210000
DTSTAMP:20260424T182817
CREATED:20260416T100925Z
LAST-MODIFIED:20260416T100925Z
UID:5323-1781452800-1781470800@urbankitchen.at
SUMMARY:Deutschland-Curaçao - 14/06/2026
DESCRIPTION:Erlebe ein spannendes Duell der FIFA Weltmeisterschaft 2026 live bei Munchy am Schottenring in Wien\, wenn Deutschland auf Curaçao trifft und zwei unterschiedliche Fußballwelten aufeinandertreffen. Dieses Spiel verspricht eine besondere Mischung aus technischer Qualität\, taktischer Disziplin und individueller Kreativität\, während beide Teams alles daransetzen\, sich im Turnierverlauf optimal zu positionieren und wichtige Punkte zu sichern. \nAm 14. Juni 2026 beginnt das Event bereits ab 16:00 Uhr mit einer entspannten Pre-Match-Atmosphäre\, die den perfekten Rahmen bietet\, um sich gemeinsam mit anderen Fans auf das Spiel einzustimmen. In dieser Phase entsteht eine lebendige Stimmung\, geprägt von Vorfreude\, internationalen Begegnungen und der besonderen Energie eines Weltmeisterschaftstags. Gäste können hochwertige Speisen und Drinks genießen und Teil einer Community werden\, die das Spiel gemeinsam erlebt. \nDer Anpfiff erfolgt um 19:00 Uhr und verspricht ein intensives und unterhaltsames Spiel. Deutschland tritt mit seiner bekannten Struktur\, Spielkontrolle und Effizienz an\, während Curaçao mit Dynamik\, Kreativität und offensivem Mut für Überraschungen sorgen kann. Diese Kombination macht das Duell besonders interessant und bietet das Potenzial für spannende Spielverläufe und unerwartete Momente. \nMunchy am Schottenring schafft dabei die ideale Umgebung\, um dieses Spiel nicht allein\, sondern gemeinsam mit anderen Fans zu erleben. Die zentrale Lage in Wien\, das moderne Ambiente und die Ausrichtung auf Live-Sport sorgen für eine Atmosphäre\, die weit über das klassische Fußballschauen hinausgeht. Große Screens\, eine angenehme Umgebung und die Möglichkeit\, das Event als sozialen Treffpunkt zu nutzen\, machen diesen Abend zu einem besonderen Highlight der Weltmeisterschaft. \nOb als leidenschaftlicher Fußballfan\, als Teil einer internationalen Gruppe oder einfach\, um die besondere Atmosphäre eines WM-Spiels zu erleben – dieses Duell zwischen Deutschland und Curaçao bietet dir die perfekte Gelegenheit dazu. Reservierungen sind über urbankitchen.at möglich\, um dir einen Platz bei diesem besonderen Event in Wien zu sichern.
URL:https://urbankitchen.at/event/deutschland-curaco-14-06-26/
LOCATION:Munchy The Urban Kitchen\, Franz-Josefs-Kai 57\, Wien\, 1010\, Austria
CATEGORIES:sport
ATTACH;FMTTYPE=image/jpeg:https://urbankitchen.at/wp-content/uploads/2026/04/DeutschlandCuracao-v3.jpg
ORGANIZER;CN="Munchy The Urban Kitchen":MAILTO:office@munchy.at
END:VEVENT
BEGIN:VEVENT
DTSTART;TZID=UTC:20260614T210000
DTEND;TZID=UTC:20260614T230000
DTSTAMP:20260424T182817
CREATED:20260417T103853Z
LAST-MODIFIED:20260417T103853Z
UID:5356-1781470800-1781478000@urbankitchen.at
SUMMARY:Niederlande-Japan - 14/06/2026
DESCRIPTION:Erlebe ein spannendes und hochklassiges Duell der FIFA Weltmeisterschaft 2026 live bei Munchy am Schottenring in Wien\, wenn die Niederlande auf Japan treffen und zwei technisch starke sowie taktisch disziplinierte Teams aufeinandertreffen. Dieses Spiel verspricht Tempo\, Präzision und internationale Fußballatmosphäre\, während beide Mannschaften um wichtige Punkte im Turnier kämpfen und ihre Qualität auf der großen Bühne unter Beweis stellen. \nAm 14. Juni 2026 erfolgt der Anpfiff um 21:00 Uhr und bietet die perfekte Gelegenheit\, einen Weltmeisterschaftsabend in besonderer Atmosphäre zu erleben. Die Niederlande stehen für strukturierten\, offensiven Fußball mit hoher individueller Qualität\, während Japan mit Schnelligkeit\, Disziplin und kollektivem Spiel überzeugt. Diese Kombination sorgt für ein intensives und abwechslungsreiches Duell mit vielen entscheidenden Momenten. \nMunchy am Schottenring bietet den idealen Rahmen\, um dieses Spiel gemeinsam mit anderen Fans zu verfolgen. Die zentrale Lage im Herzen Wiens\, das moderne Ambiente und die Ausrichtung auf Live-Sport schaffen eine Atmosphäre\, die weit über das klassische Fußballschauen hinausgeht. Große Screens\, eine angenehme Umgebung und die Möglichkeit\, das Event als sozialen Treffpunkt zu nutzen\, machen diesen Abend zu einem besonderen Highlight der Weltmeisterschaft. \nOb als leidenschaftlicher Fußballfan\, als Teil einer internationalen Community oder einfach\, um die besondere Energie eines WM-Spiels zu erleben – dieses Duell zwischen den Niederlanden und Japan bietet dir die perfekte Gelegenheit dazu. Reservierungen sind über urbankitchen.at möglich\, um dir einen Platz bei diesem besonderen Event in Wien zu sichern.
URL:https://urbankitchen.at/event/niederlande-japan-14-06-26/
LOCATION:Munchy The Urban Kitchen\, Franz-Josefs-Kai 57\, Wien\, 1010\, Austria
CATEGORIES:sport
ATTACH;FMTTYPE=image/jpeg:https://urbankitchen.at/wp-content/uploads/2026/04/NiederlandeJapan.jpg
ORGANIZER;CN="Munchy The Urban Kitchen":MAILTO:office@munchy.at
END:VEVENT
BEGIN:VEVENT
DTSTART;TZID=UTC:20260614T220000
DTEND;TZID=UTC:20260615T080000
DTSTAMP:20260424T182817
CREATED:20260416T095917Z
LAST-MODIFIED:20260416T100049Z
UID:5320-1781474400-1781510400@urbankitchen.at
SUMMARY:Australien-Türkei - 14/06/2026
DESCRIPTION:Erlebe ein besonderes Highlight der FIFA Weltmeisterschaft 2026 live bei Munchy am Schottenring in Wien\, wenn Australien und die Türkei in einem spannenden Duell aufeinandertreffen und beide Teams um wichtige Punkte im Turnier kämpfen. Dieses Spiel vereint unterschiedliche Fußballkulturen und Spielstile und verspricht ein intensives\, emotionales und dynamisches Erlebnis\, das Fans aus verschiedenen Ländern zusammenbringt. \nAm 14. Juni 2026 beginnt das Event bereits ab 22:00 Uhr mit einer entspannten Pre-Match-Atmosphäre\, in der sich Gäste auf das bevorstehende Spiel einstimmen können. In dieser Phase entsteht eine besondere Stimmung\, geprägt von Vorfreude\, Gesprächen unter Fußballfans und der Energie eines internationalen Turniers. Besucher haben die Möglichkeit\, hochwertige Speisen und Drinks zu genießen und Teil einer lebendigen Community zu werden\, die dieses globale Sportereignis gemeinsam erlebt. \nDer Anpfiff erfolgt um 06:00 Uhr und macht dieses Spiel zu einem besonderen Erlebnis für alle\, die Fußball auch in den frühen Morgenstunden in einer einzigartigen Atmosphäre verfolgen möchten. Australien bringt seine physische Stärke\, Dynamik und Geschwindigkeit auf den Platz\, während die Türkei mit technischer Qualität\, Leidenschaft und offensiver Spielweise überzeugt. Diese Kombination sorgt für ein Duell\, das sowohl taktisch interessant als auch emotional aufgeladen ist und jederzeit für entscheidende Momente sorgen kann. \nMunchy am Schottenring bietet den idealen Rahmen\, um dieses Spiel nicht allein\, sondern gemeinsam mit anderen Fans zu erleben. Die zentrale Lage im Herzen Wiens\, das moderne Ambiente und die gezielte Ausrichtung auf Live-Sport schaffen eine Atmosphäre\, die weit über das klassische Fußballschauen hinausgeht. Große Screens\, eine angenehme Umgebung und die Möglichkeit\, das Event als sozialen Treffpunkt zu nutzen\, machen diesen Morgen zu einem besonderen Highlight im Rahmen der Weltmeisterschaft. \nOb als leidenschaftlicher Fußballfan\, als Teil einer internationalen Community oder einfach\, um die besondere Energie eines WM-Spiels zu erleben – dieses Duell zwischen Australien und der Türkei bietet dir die perfekte Gelegenheit dazu. Reservierungen sind über urbankitchen.at möglich\, um dir einen Platz bei diesem besonderen Event in Wien zu sichern.
URL:https://urbankitchen.at/event/australien-turkei-14-06-26/
LOCATION:Munchy The Urban Kitchen\, Franz-Josefs-Kai 57\, Wien\, 1010\, Austria
CATEGORIES:sport
ATTACH;FMTTYPE=image/jpeg:https://urbankitchen.at/wp-content/uploads/2026/04/AustralienTurkei-v2.jpg
ORGANIZER;CN="Munchy The Urban Kitchen":MAILTO:office@munchy.at
END:VEVENT
END:VCALENDAR