BEGIN:VCALENDAR
VERSION:2.0
PRODID:-//Munchy The Urban Kitchen - ECPv6.15.12.2//NONSGML v1.0//EN
CALSCALE:GREGORIAN
METHOD:PUBLISH
X-WR-CALNAME:Munchy The Urban Kitchen
X-ORIGINAL-URL:https://urbankitchen.at
X-WR-CALDESC:Veranstaltungen für Munchy The Urban Kitchen
REFRESH-INTERVAL;VALUE=DURATION:PT1H
X-Robots-Tag:noindex
X-PUBLISHED-TTL:PT1H
BEGIN:VTIMEZONE
TZID:UTC
BEGIN:STANDARD
TZOFFSETFROM:+0000
TZOFFSETTO:+0000
TZNAME:UTC
DTSTART:20250101T000000
END:STANDARD
END:VTIMEZONE
BEGIN:VEVENT
DTSTART;TZID=UTC:20260613T210000
DTEND;TZID=UTC:20260613T230000
DTSTAMP:20260424T182648
CREATED:20260417T103105Z
LAST-MODIFIED:20260417T103105Z
UID:5350-1781384400-1781391600@urbankitchen.at
SUMMARY:Katar-Schweiz - 13/06/2026
DESCRIPTION:Erlebe ein spannendes Duell der FIFA Weltmeisterschaft 2026 live bei Munchy am Schottenring in Wien\, wenn Katar auf die Schweiz trifft und zwei Teams mit unterschiedlichen Spielansätzen und Stärken aufeinandertreffen. Dieses Spiel verspricht Tempo\, Intensität und internationale Fußballatmosphäre\, während beide Mannschaften um wichtige Punkte im Turnier kämpfen und ihre Qualität auf der großen Bühne zeigen. \nAm 13. Juni 2026 erfolgt der Anpfiff um 21:00 Uhr und bietet die perfekte Gelegenheit\, einen Weltmeisterschaftsabend in besonderer Atmosphäre zu erleben. Die Begegnung steht für Dynamik und taktische Vielfalt\, da Katar mit Technik\, Ballkontrolle und Spielaufbau überzeugt\, während die Schweiz für Struktur\, Disziplin und Effizienz bekannt ist. Diese Kombination sorgt für ein abwechslungsreiches und spannendes Spiel mit zahlreichen entscheidenden Momenten. \nMunchy am Schottenring schafft den idealen Rahmen\, um dieses Spiel gemeinsam mit anderen Fans zu erleben. Die zentrale Lage im Herzen Wiens\, das moderne Ambiente und die Ausrichtung auf Live-Sport sorgen für eine Atmosphäre\, die weit über das klassische Fußballschauen hinausgeht. Große Screens\, eine angenehme Umgebung und die Möglichkeit\, das Event als sozialen Treffpunkt zu nutzen\, machen diesen Abend zu einem besonderen Highlight der Weltmeisterschaft. \nOb als leidenschaftlicher Fußballfan\, als Teil einer internationalen Community oder einfach\, um die besondere Energie eines WM-Spiels zu genießen – dieses Duell zwischen Katar und der Schweiz bietet dir die perfekte Gelegenheit dazu. Reservierungen sind über urbankitchen.at möglich\, um dir einen Platz bei diesem besonderen Event in Wien zu sichern.
URL:https://urbankitchen.at/event/katar-schweiz-13-06-26/
LOCATION:Munchy The Urban Kitchen\, Franz-Josefs-Kai 57\, Wien\, 1010\, Austria
CATEGORIES:sport
ATTACH;FMTTYPE=image/jpeg:https://urbankitchen.at/wp-content/uploads/2026/04/KatarSchweiz.jpg
ORGANIZER;CN="Munchy The Urban Kitchen":MAILTO:office@munchy.at
END:VEVENT
BEGIN:VEVENT
DTSTART;TZID=UTC:20260613T220000
DTEND;TZID=UTC:20260614T050000
DTSTAMP:20260424T182648
CREATED:20260416T095551Z
LAST-MODIFIED:20260416T100000Z
UID:5317-1781388000-1781413200@urbankitchen.at
SUMMARY:USA-Paraguay - 13/06/2026
DESCRIPTION:Erlebe ein spannendes Duell der FIFA Weltmeisterschaft 2026 live bei Munchy am Schottenring in Wien\, wenn die USA auf Paraguay treffen und zwei unterschiedliche Fußballstile aufeinandertreffen. Dieses Spiel steht für Dynamik\, Intensität und internationale Konkurrenz auf höchstem Niveau\, während beide Teams um wichtige Punkte im Turnier kämpfen und ihre Ambitionen unter Beweis stellen. \nAm 13. Juni 2026 beginnt das Event bereits ab 22:00 Uhr mit einer entspannten Pre-Match-Atmosphäre\, in der sich Gäste auf das bevorstehende Spiel einstimmen können. In dieser Phase entsteht eine besondere Stimmung\, geprägt von Vorfreude\, Gesprächen unter Fußballfans und dem gemeinsamen Erleben eines globalen Sportevents. Besucher haben die Möglichkeit\, hochwertige Speisen und Drinks zu genießen und Teil einer lebendigen Community zu werden\, die sich rund um dieses Spiel versammelt. \nDer Anpfiff erfolgt um 03:00 Uhr und verspricht ein intensives und temporeiches Spiel. Die USA bringt eine junge\, athletische und dynamische Mannschaft auf den Platz\, während Paraguay für taktische Disziplin\, körperliche Präsenz und kämpferischen Einsatz bekannt ist. Diese Kombination sorgt für ein Spiel\, das sowohl strategisch als auch emotional geprägt sein wird und jederzeit für überraschende Wendungen sorgen kann. \nMunchy am Schottenring bietet den idealen Rahmen\, um dieses Spiel nicht allein\, sondern gemeinsam mit anderen Fans zu erleben. Die zentrale Lage im Herzen Wiens\, das moderne Ambiente und die gezielte Ausrichtung auf Live-Sport schaffen eine Atmosphäre\, die weit über das klassische Fußballschauen hinausgeht. Große Screens\, eine angenehme Umgebung und die Möglichkeit\, das Event als sozialen Treffpunkt zu nutzen\, machen diesen Abend zu einem besonderen Highlight für alle Fußballbegeisterten. \nOb du als leidenschaftlicher Fan kommst\, das Spiel in einer besonderen Umgebung genießen möchtest oder einfach Teil eines internationalen Fußballabends sein willst – dieses WM-Duell zwischen den USA und Paraguay bietet dir die perfekte Gelegenheit dazu. Reservierungen sind über urbankitchen.at möglich\, um dir einen Platz bei diesem besonderen Event in Wien zu sichern.
URL:https://urbankitchen.at/event/usa-paraguay-13-06-26/
LOCATION:Munchy The Urban Kitchen\, Franz-Josefs-Kai 57\, Wien\, 1010\, Austria
CATEGORIES:sport
ATTACH;FMTTYPE=image/jpeg:https://urbankitchen.at/wp-content/uploads/2026/04/USAParaguay-v2.jpg
ORGANIZER;CN="Munchy The Urban Kitchen":MAILTO:office@munchy.at
END:VEVENT
END:VCALENDAR