BEGIN:VCALENDAR
VERSION:2.0
PRODID:-//Munchy The Urban Kitchen - ECPv6.15.12.2//NONSGML v1.0//EN
CALSCALE:GREGORIAN
METHOD:PUBLISH
X-ORIGINAL-URL:https://urbankitchen.at
X-WR-CALDESC:Veranstaltungen für Munchy The Urban Kitchen
REFRESH-INTERVAL;VALUE=DURATION:PT1H
X-Robots-Tag:noindex
X-PUBLISHED-TTL:PT1H
BEGIN:VTIMEZONE
TZID:UTC
BEGIN:STANDARD
TZOFFSETFROM:+0000
TZOFFSETTO:+0000
TZNAME:UTC
DTSTART:20250101T000000
END:STANDARD
END:VTIMEZONE
BEGIN:VEVENT
DTSTART;TZID=UTC:20260427T210000
DTEND;TZID=UTC:20260427T230000
DTSTAMP:20260424T151719
CREATED:20260409T084945Z
LAST-MODIFIED:20260409T084945Z
UID:5285-1777323600-1777330800@urbankitchen.at
SUMMARY:Manchester United-Brentford - 27/04/2026
DESCRIPTION:Ein intensiver Fußballabend steht bevor\, wenn Manchester United auf Brentford trifft und Munchy am Schottenring zur Bühne für echte Premier-League-Atmosphäre wird. Große Screens\, kraftvoller Sound und eine energiegeladene Crowd sorgen dafür\, dass du jede Aktion\, jeden Zweikampf und jedes Tor hautnah miterlebst. \nAm Montag\, den 27.04.2026 um 21:00 Uhr erwartet dich ein spannendes Duell zwischen zwei Teams mit unterschiedlichen Spielstilen. Manchester United bringt Tempo\, individuelle Klasse und Offensivdruck auf den Platz\, während Brentford mit kompakter Struktur\, Physis und cleverem Umschaltspiel dagegenhält. Genau diese Mischung macht das Spiel unberechenbar und sorgt für echte Spannung bis zur letzten Minute. \nBei Munchy wird dieser Matchday zu einem kompletten Erlebnis. Frisch zubereitete Smash Burger\, herzhafte Snacks und eiskalte Drinks begleiten dich durch einen Abend voller Emotionen\, Diskussionen und Fußballmomente\, die man gemeinsam am besten genießt. Ob mit Freunden oder spontan – hier trifft sportliche Intensität auf entspannten Genuss in einer einzigartigen Atmosphäre. \nSichere dir rechtzeitig deinen Platz und sei dabei\, wenn die Premier League live bei Munchy zum Leben erwacht – mitten in Wien\, am Schottenring\, dort wo Fußballnächte wirklich gefeiert werden.
URL:https://urbankitchen.at/event/manu-brentford-27-04-26/
LOCATION:Munchy The Urban Kitchen\, Franz-Josefs-Kai 57\, Wien\, 1010\, Austria
CATEGORIES:sport
ATTACH;FMTTYPE=image/png:https://urbankitchen.at/wp-content/uploads/2026/04/ManuBrentford.png
ORGANIZER;CN="Munchy The Urban Kitchen":MAILTO:office@munchy.at
END:VEVENT
END:VCALENDAR