BEGIN:VCALENDAR
VERSION:2.0
PRODID:-//Munchy The Urban Kitchen - ECPv6.15.12.2//NONSGML v1.0//EN
CALSCALE:GREGORIAN
METHOD:PUBLISH
X-WR-CALNAME:Munchy The Urban Kitchen
X-ORIGINAL-URL:https://urbankitchen.at
X-WR-CALDESC:Veranstaltungen für Munchy The Urban Kitchen
REFRESH-INTERVAL;VALUE=DURATION:PT1H
X-Robots-Tag:noindex
X-PUBLISHED-TTL:PT1H
BEGIN:VTIMEZONE
TZID:UTC
BEGIN:STANDARD
TZOFFSETFROM:+0000
TZOFFSETTO:+0000
TZNAME:UTC
DTSTART:20250101T000000
END:STANDARD
END:VTIMEZONE
BEGIN:VEVENT
DTSTART;TZID=UTC:20260425T153000
DTEND;TZID=UTC:20260425T183000
DTSTAMP:20260425T024404
CREATED:20260402T113645Z
LAST-MODIFIED:20260402T113645Z
UID:5251-1777131000-1777141800@urbankitchen.at
SUMMARY:Bundesliga Match Day - 25/04/2026
DESCRIPTION:Erlebe den Bundesliga Matchday im Munchy am Schottenring und tauche ein in eine Atmosphäre\, die Fußball auf ein neues Level hebt. Mehrere Topspiele an einem Abend\, gebündelt auf großen Screens\, begleitet von kraftvollem Sound und einer Crowd\, die jede Szene gemeinsam erlebt – hier entsteht echtes Stadionfeeling mitten in Wien. \nSchon ab den frühen Spielen liegt Spannung in der Luft. Verschiedene Partien laufen parallel\, Fans verfolgen ihre Teams\, diskutieren jede Aktion und lassen sich von der Dynamik des Spieltags mitreißen. Ob packende Duelle am Nachmittag oder das Abendspiel unter Flutlicht – jeder Moment wird intensiver\, wenn man ihn gemeinsam erlebt. \nMunchy verbindet dieses Fußballerlebnis mit hochwertigem Food und Drinks\, die den Matchday perfekt ergänzen. Frisch zubereitete Burger\, knusprige Fries und eiskalte Getränke sorgen dafür\, dass du den gesamten Spieltag entspannt und gleichzeitig voller Energie genießen kannst. \nAm Samstag\, den 25.04.2026\, wird Munchy zum Treffpunkt für alle\, die Bundesliga nicht nur schauen\, sondern fühlen wollen – ein Ort\, an dem mehrere Spiele\, echte Emotionen und eine einzigartige Atmosphäre zusammenkommen.
URL:https://urbankitchen.at/event/bundesliga-25-04-26/
LOCATION:Munchy The Urban Kitchen\, Franz-Josefs-Kai 57\, Wien\, 1010\, Austria
CATEGORIES:sport
ATTACH;FMTTYPE=image/jpeg:https://urbankitchen.at/wp-content/uploads/2026/04/Bundesliga_25Nisan.jpg
ORGANIZER;CN="Munchy The Urban Kitchen":MAILTO:office@munchy.at
END:VEVENT
BEGIN:VEVENT
DTSTART;TZID=UTC:20260425T160000
DTEND;TZID=UTC:20260425T180000
DTSTAMP:20260425T024404
CREATED:20260402T113917Z
LAST-MODIFIED:20260402T113917Z
UID:5254-1777132800-1777140000@urbankitchen.at
SUMMARY:Liverpool-Crystal Palace - 25/04/2026
DESCRIPTION:Wenn Liverpool auf Crystal Palace trifft\, wird Munchy am Schottenring zum Treffpunkt für alle\, die Fußball mit echter Intensität erleben wollen. Große Screens\, kraftvoller Sound und eine Atmosphäre\, die jede Aktion verstärkt – hier wird jeder Moment spürbar und jeder Angriff mitgefiebert. \nSchon vor dem Anpfiff entsteht eine besondere Energie im Raum. Fans kommen zusammen\, tauschen sich aus und bereiten sich auf ein Spiel voller Tempo und Emotion vor. Mit dem ersten Pfiff wird jede Szene gemeinsam erlebt\, jeder Zweikampf kommentiert und jedes Tor gefeiert\, als wäre man direkt im Stadion dabei. \nNeben dem Spiel sorgt das Angebot an frisch zubereiteten Burgern\, knusprigen Fries und perfekt gekühlten Drinks für das komplette Matchday-Erlebnis. Munchy verbindet hochwertige Küche mit einer Atmosphäre\, die Fußball nicht nur zeigt\, sondern fühlbar macht. \nSamstag\, 25.04.2026 um 16:00 Uhr – sei dabei und erlebe Liverpool gegen Crystal Palace in einer Umgebung\, die Leidenschaft\, Spannung und Stadionfeeling perfekt vereint.
URL:https://urbankitchen.at/event/liverpool-crystal-25-04-26/
LOCATION:Munchy The Urban Kitchen\, Franz-Josefs-Kai 57\, Wien\, 1010\, Austria
CATEGORIES:sport
ATTACH;FMTTYPE=image/png:https://urbankitchen.at/wp-content/uploads/2026/04/LiverpoolCrystalPalace.png
ORGANIZER;CN="Munchy The Urban Kitchen":MAILTO:office@munchy.at
END:VEVENT
BEGIN:VEVENT
DTSTART;TZID=UTC:20260425T183000
DTEND;TZID=UTC:20260425T203000
DTSTAMP:20260425T024404
CREATED:20260420T113709Z
LAST-MODIFIED:20260420T113709Z
UID:5451-1777141800-1777149000@urbankitchen.at
SUMMARY:Arsenal-Newcastle United - 25/04/2026
DESCRIPTION:Erlebe die Premier League live im Munchy am Schottenring\, wenn Arsenal auf Newcastle United trifft und Wien für einen Abend ganz im Zeichen des englischen Fußballs steht. Dieses Duell bringt Tempo\, Intensität und echte Fußballleidenschaft direkt auf die großen Screens. Schon beim Eintreten spürst du die besondere Atmosphäre\, die sich aus einer energiegeladenen Crowd und der Vorfreude auf ein Topspiel entwickelt. Hier wird jedes Detail des Spiels bewusst wahrgenommen und gemeinsam erlebt. Das Munchy verwandelt sich an diesem Abend in einen Ort\, an dem Fußball mehr ist als nur Unterhaltung. \nVor dem Anpfiff beginnt der Abend mit einer entspannten\, aber spürbar steigenden Spannung. Du kommst an\, suchst dir deinen Platz und wirst sofort Teil der Matchday-Stimmung. Frisch zubereitete Burger\, knusprige Fries und eine Auswahl an Drinks sorgen für das perfekte Setup. Gespräche über Aufstellungen\, Taktik und mögliche Spielverläufe bringen die Gäste zusammen. Mit jeder Minute wächst die Erwartung auf das\, was gleich auf dem Platz passieren wird. \nSobald das Spiel startet\, wird das Munchy zu einer vibrierenden Fußballarena mitten in Wien. Jeder Angriff von Arsenal und jede Aktion von Newcastle wird lautstark begleitet und emotional diskutiert. Die Kombination aus Sound\, Licht und Reaktionen der Crowd sorgt für ein intensives Erlebnis. Du bist nicht nur Zuschauer\, sondern Teil einer Atmosphäre\, die dich komplett mitreißt. Jeder Moment fühlt sich größer an\, wenn man ihn gemeinsam erlebt. \nGerade ein Premier League Spiel wie dieses lebt von Dynamik und Emotionen\, die sich im ganzen Raum widerspiegeln. Im Munchy entstehen spontane Gespräche\, gemeinsamer Jubel und echte Fußballmomente. Egal ob du mit Freunden kommst oder alleine\, du wirst sofort in die Community integriert. Die Leidenschaft für das Spiel verbindet alle Anwesenden auf natürliche Weise. Diese Energie macht den Abend einzigartig und unvergesslich. \nSichere dir rechtzeitig deinen Platz und sei dabei\, wenn dieser Fußballabend seinen Höhepunkt erreicht. Die Nachfrage wird hoch sein\, denn solche Spiele ziehen echte Fans an. Plane deinen Besuch im Voraus und genieße die Zeit vor und während des Spiels in vollen Zügen. Vom ersten Drink bis zum letzten Pfiff bleibt die Spannung auf konstant hohem Niveau. Im Munchy wird Premier League zu einem Erlebnis\, das weit über das Spiel hinausgeht.
URL:https://urbankitchen.at/event/arsenal-newcastle-25-04-26/
LOCATION:Munchy The Urban Kitchen\, Franz-Josefs-Kai 57\, Wien\, 1010\, Austria
CATEGORIES:sport
ATTACH;FMTTYPE=image/png:https://urbankitchen.at/wp-content/uploads/2026/04/ArsenalNewcastle.png
ORGANIZER;CN="Munchy The Urban Kitchen":MAILTO:office@munchy.at
END:VEVENT
BEGIN:VEVENT
DTSTART;TZID=UTC:20260425T210000
DTEND;TZID=UTC:20260425T230000
DTSTAMP:20260425T024404
CREATED:20260420T115730Z
LAST-MODIFIED:20260420T115730Z
UID:5455-1777150800-1777158000@urbankitchen.at
SUMMARY:Atletico Madrid-Athletic Bilbao - 25/04/2026
DESCRIPTION:Erlebe die Leidenschaft von La Liga live im Munchy am Schottenring\, wenn Atlético Madrid auf Athletic Club Bilbao trifft und Wien für einen Abend zur spanischen Fußballbühne wird. Dieses Duell steht für Intensität\, Emotion und kompromisslosen Fußball auf höchstem Niveau. Schon beim Betreten des Munchy spürst du die besondere Energie\, die sich aus einer fußballbegeisterten Crowd und der Vorfreude auf ein Topspiel entwickelt. Große Screens sorgen dafür\, dass dir kein Moment entgeht und du jede Aktion hautnah verfolgen kannst. Hier geht es nicht nur um das Spiel\, sondern um das gemeinsame Erlebnis. \nVor dem Anpfiff baut sich die Atmosphäre langsam auf und zieht dich sofort in ihren Bann. Du kommst an\, sicherst dir deinen Platz und wirst Teil eines Abends\, der sich ganz dem Fußball widmet. Frisch zubereitete Burger\, knusprige Fries und eine große Auswahl an Drinks begleiten dich durch die gesamte Matchday-Experience. Gespräche über Taktik\, Spieler und mögliche Spielverläufe sorgen für zusätzliche Spannung. Mit jeder Minute steigt die Erwartung und macht den Abend immer intensiver. \nSobald das Spiel beginnt\, verwandelt sich das Munchy in eine lebendige Arena mitten in Wien. Jeder Zweikampf\, jeder Angriff und jede Torchance wird gemeinsam verfolgt und emotional kommentiert. Die Kombination aus Sound\, Licht und Crowd schafft eine Atmosphäre\, die dich komplett mitreißt. Du bist nicht nur Zuschauer\, sondern Teil eines Moments\, der von allen im Raum geteilt wird. Genau diese Dynamik macht den Unterschied und sorgt für echtes Stadiongefühl. \nEin Spiel wie Atlético gegen Athletic lebt von Emotionen und genau diese Energie spürst du im gesamten Raum. Fremde werden zu Gesprächspartnern und gemeinsame Reaktionen verbinden die Gäste sofort. Jeder Jubel\, jede Spannung und jede Entscheidung auf dem Platz wird gemeinsam erlebt. Diese kollektive Erfahrung macht den Abend einzigartig und besonders. Es entsteht eine Atmosphäre\, die weit über das Spiel hinausgeht. \nSichere dir rechtzeitig deinen Platz und sei dabei\, wenn dieser große Fußballabend seinen Höhepunkt erreicht. Die Nachfrage wird hoch sein\, denn solche Spiele ziehen echte Fans an\, die das Erlebnis voll auskosten wollen. Plane deinen Abend im Voraus und genieße jeden Moment von der ersten Minute bis zum Abpfiff. Im Munchy erwartet dich ein durchgehend intensives Matchday-Erlebnis. Erlebe La Liga in einer Atmosphäre\, die du so schnell nicht vergessen wirst.
URL:https://urbankitchen.at/event/atletico-bilbao-25-04-26/
LOCATION:Munchy The Urban Kitchen\, Franz-Josefs-Kai 57\, Wien\, 1010\, Austria
CATEGORIES:sport
ATTACH;FMTTYPE=image/png:https://urbankitchen.at/wp-content/uploads/2026/04/AtleticoAthletic.png
ORGANIZER;CN="Munchy The Urban Kitchen":MAILTO:office@munchy.at
END:VEVENT
END:VCALENDAR