BEGIN:VCALENDAR
VERSION:2.0
PRODID:-//Munchy The Urban Kitchen - ECPv6.15.12.2//NONSGML v1.0//EN
CALSCALE:GREGORIAN
METHOD:PUBLISH
X-WR-CALNAME:Munchy The Urban Kitchen
X-ORIGINAL-URL:https://urbankitchen.at
X-WR-CALDESC:Veranstaltungen für Munchy The Urban Kitchen
REFRESH-INTERVAL;VALUE=DURATION:PT1H
X-Robots-Tag:noindex
X-PUBLISHED-TTL:PT1H
BEGIN:VTIMEZONE
TZID:UTC
BEGIN:STANDARD
TZOFFSETFROM:+0000
TZOFFSETTO:+0000
TZNAME:UTC
DTSTART:20250101T000000
END:STANDARD
END:VTIMEZONE
BEGIN:VEVENT
DTSTART;TZID=UTC:20260423T204500
DTEND;TZID=UTC:20260423T224500
DTSTAMP:20260424T151359
CREATED:20260402T085458Z
LAST-MODIFIED:20260402T085458Z
UID:5240-1776977100-1776984300@urbankitchen.at
SUMMARY:Stuttgart-Freiburg - 23/04/2026
DESCRIPTION:Wenn der VfB Stuttgart auf den SC Freiburg trifft\, verwandelt sich Munchy am Schottenring in den ultimativen Treffpunkt für Fußballfans in Wien. Hier erlebst du das Spiel nicht einfach nur auf dem Bildschirm – du bist mitten drin. Große Screens\, kraftvoller Sound und eine mitreißende Atmosphäre sorgen dafür\, dass jede Szene intensiver wirkt und jeder Moment zählt. \nSchon beim Betreten spürst du die Energie des Abends. Die Spannung steigt mit jeder Minute\, während sich Fans versammeln\, diskutieren und gemeinsam auf den Anpfiff hinfiebern. Jeder Angriff\, jeder Schuss und jedes Tor wird gefeiert\, als wärst du live im Stadion dabei. Genau diese Mischung aus Emotion\, Nähe zum Spiel und echter Fußballkultur macht den Unterschied. \nAbgerundet wird das Erlebnis durch frisch zubereitete Burger\, knusprige Fries und perfekt gekühlte Drinks\, die den Matchday komplett machen. Egal ob du mit Freunden kommst oder neue Leute kennenlernst – Munchy ist der Ort\, an dem Fußball\, Genuss und Atmosphäre zusammenkommen. \nDonnerstag\, 23.04.2026 um 20:45 Uhr – sei dabei und erlebe VfB Stuttgart gegen SC Freiburg in einer Umgebung\, die Spannung\, Leidenschaft und Stadionfeeling auf ein neues Level bringt.
URL:https://urbankitchen.at/event/stuttgart-freiburg-23-04-26/
LOCATION:Munchy The Urban Kitchen\, Franz-Josefs-Kai 57\, Wien\, 1010\, Austria
CATEGORIES:sport
ATTACH;FMTTYPE=image/png:https://urbankitchen.at/wp-content/uploads/2026/04/StuttgartFreiburg.png
ORGANIZER;CN="Munchy The Urban Kitchen":MAILTO:office@munchy.at
END:VEVENT
END:VCALENDAR