BEGIN:VCALENDAR
VERSION:2.0
PRODID:-//Munchy The Urban Kitchen - ECPv6.15.12.2//NONSGML v1.0//EN
CALSCALE:GREGORIAN
METHOD:PUBLISH
X-WR-CALNAME:Munchy The Urban Kitchen
X-ORIGINAL-URL:https://urbankitchen.at
X-WR-CALDESC:Veranstaltungen für Munchy The Urban Kitchen
REFRESH-INTERVAL;VALUE=DURATION:PT1H
X-Robots-Tag:noindex
X-PUBLISHED-TTL:PT1H
BEGIN:VTIMEZONE
TZID:UTC
BEGIN:STANDARD
TZOFFSETFROM:+0000
TZOFFSETTO:+0000
TZNAME:UTC
DTSTART:20250101T000000
END:STANDARD
END:VTIMEZONE
BEGIN:VEVENT
DTSTART;TZID=UTC:20260418T153000
DTEND;TZID=UTC:20260418T183000
DTSTAMP:20260424T151400
CREATED:20260331T085030Z
LAST-MODIFIED:20260331T085030Z
UID:5211-1776526200-1776537000@urbankitchen.at
SUMMARY:Bundesliga Match Day - 18/04/2026
DESCRIPTION:Am Samstag\, den 18.04.2026 wird Munchy am Schottenring zum Bundesliga Hotspot in Wien – ein kompletter Match Day voller Action\, Emotion und echter Fußballatmosphäre. \nDen ganzen Nachmittag über laufen mehrere Topspiele parallel\, sodass du keinen wichtigen Moment verpasst. Um 15:30 Uhr starten gleich vier Begegnungen: Union Berlin gegen Wolfsburg\, Bayer Leverkusen gegen Augsburg\, Werder Bremen gegen HSV sowie Hoffenheim gegen Borussia Dortmund. Jedes Spiel bringt seine eigene Dynamik\, von intensiven Zweikämpfen bis hin zu schnellen Offensivaktionen\, die den Spieltag von Anfang an auf ein hohes Level bringen. \nAm Abend geht es weiter mit einem weiteren Highlight: Eintracht Frankfurt gegen RB Leipzig um 18:30 Uhr – ein Spiel\, das für Tempo\, Pressing und entscheidende Momente steht und den perfekten Abschluss eines langen Fußballtages bildet. \nBei Munchy erlebst du diesen Bundesliga Match Day nicht einfach nebenbei\, sondern mittendrin. Große Screens\, klare Sicht aus jeder Ecke und eine Crowd\, die jede Szene gemeinsam feiert\, sorgen für eine Atmosphäre\, die sich wie Stadion anfühlt. Hier entsteht echte Energie\, die jeden Pass\, jeden Schuss und jedes Tor intensiver macht. \nDazu kommen saftige Burger\, frische Snacks und perfekt gekühlte Drinks\, die den gesamten Spieltag begleiten und aus jedem Match ein Erlebnis machen. Egal ob du für ein bestimmtes Spiel kommst oder den ganzen Tag bleibst – bei Munchy wird Fußball genau so zelebriert\, wie er sein soll: laut\, lebendig und voller Leidenschaft. \nDer Bundesliga Match Day bei Munchy ist mehr als nur Fußball schauen – es ist ein ganzer Tag voller Highlights\, den man nicht verpassen sollte.
URL:https://urbankitchen.at/event/bundesliga-18-04-26/
LOCATION:Munchy The Urban Kitchen\, Franz-Josefs-Kai 57\, Wien\, 1010\, Austria
CATEGORIES:sport
ATTACH;FMTTYPE=image/jpeg:https://urbankitchen.at/wp-content/uploads/2026/03/Bundesliga_18Nisan.jpg
ORGANIZER;CN="Munchy The Urban Kitchen":MAILTO:office@munchy.at
END:VEVENT
BEGIN:VEVENT
DTSTART;TZID=UTC:20260418T180000
DTEND;TZID=UTC:20260418T200000
DTSTAMP:20260424T151400
CREATED:20260331T084305Z
LAST-MODIFIED:20260331T084305Z
UID:5205-1776535200-1776542400@urbankitchen.at
SUMMARY:Napoli-Lazio - 18/04/2026
DESCRIPTION:Am Samstag\, den 18.04.2026 um 18:00 Uhr erwartet dich ein italienisches Topspiel mit Leidenschaft\, Tempo und echter Derby-Atmosphäre: Napoli gegen Lazio. \nErlebe dieses intensive Duell live bei Munchy am Schottenring\, wo Fußball zur Experience wird. Große Screens\, klare Sicht aus jeder Ecke und eine Crowd\, die jedes Detail des Spiels mitfühlt – von den ersten Minuten bis zum entscheidenden Moment. Hier geht es nicht nur um das Spiel\, sondern um die Energie im Raum\, die Spannung bei jedem Angriff und die Emotionen\, die sich von Sekunde zu Sekunde aufbauen. \nWährend Napoli für offensive Power und kreativen Fußball steht und Lazio mit taktischer Disziplin und gefährlichen Umschaltmomenten kontert\, entsteht ein Spiel\, das keine Pause kennt. Genau diese Dynamik spürst du bei uns hautnah\, begleitet von einer Atmosphäre\, die dich direkt ins Stadion versetzt. \nDazu kommen saftige Burger\, frische Snacks und perfekt gekühlte Drinks\, die deinen Matchday komplett machen. Munchy ist der Ort\, an dem sich Fußballfans treffen\, gemeinsam mitfiebern und große Spiele genau so erleben\, wie sie sein sollten: laut\, intensiv und voller Leidenschaft. \nNapoli gegen Lazio ist mehr als ein Spiel – und bei Munchy wird daraus ein Abend\, den man nicht nur schaut\, sondern erlebt.
URL:https://urbankitchen.at/event/napoli-lazio-18-04-26/
LOCATION:Munchy The Urban Kitchen\, Franz-Josefs-Kai 57\, Wien\, 1010\, Austria
CATEGORIES:sport
ATTACH;FMTTYPE=image/png:https://urbankitchen.at/wp-content/uploads/2026/03/NapoliLazio.png
ORGANIZER;CN="Munchy The Urban Kitchen":MAILTO:office@munchy.at
END:VEVENT
BEGIN:VEVENT
DTSTART;TZID=UTC:20260418T190000
DTEND;TZID=UTC:20260418T210000
DTSTAMP:20260424T151400
CREATED:20260415T081812Z
LAST-MODIFIED:20260415T081812Z
UID:5298-1776538800-1776546000@urbankitchen.at
SUMMARY:Gençlerbirligi-Galatasaray - 18/04/2026
DESCRIPTION:Am Samstag\, den 18.04.2026 um 19:00 Uhr\, erwartet dich im Munchy am Schottenring ein spannendes Duell aus der türkischen Süper Lig: Gençlerbirliği trifft auf Galatasaray. Zwei traditionsreiche Vereine mit unterschiedlicher Ausgangslage begegnen sich in einem intensiven Spiel\, das sowohl für eingefleischte Fußballfans als auch für Gelegenheitszuschauer jede Menge Unterhaltung bietet. \nGençlerbirliği\, bekannt für seine kämpferische Spielweise und junge\, dynamische Spieler\, wird alles daransetzen\, vor eigenem Publikum zu überzeugen und gegen einen starken Gegner zu bestehen. Auf der anderen Seite steht Galatasaray\, einer der erfolgreichsten Clubs der Türkei\, der mit seiner Erfahrung\, individuellen Qualität und offensiven Stärke das Spiel dominieren möchte. Die Begegnung verspricht Tempo\, Emotionen und entscheidende Momente auf höchstem Niveau. \nIm Munchy am Schottenring wird das Spiel in einer entspannten\, gleichzeitig energiegeladenen Atmosphäre live übertragen. Die Kombination aus hochwertigem Essen\, einer breiten Auswahl an Getränken und einer modernen Bar schafft den perfekten Rahmen\, um das Spiel gemeinsam mit anderen Fußballbegeisterten zu verfolgen. Egal ob du mit Freunden kommst oder alleine vorbeischaust – hier kannst du das Spiel intensiv erleben und Teil einer lebendigen Community werden. \nDie Übertragung beginnt pünktlich zum Anstoß um 19:00 Uhr. Es empfiehlt sich\, rechtzeitig zu erscheinen\, um sich einen guten Platz zu sichern und die Atmosphäre schon vor Spielbeginn zu genießen. Munchy am Schottenring bietet die ideale Location\, um Top-Fußball mit kulinarischem Erlebnis zu verbinden.
URL:https://urbankitchen.at/event/genclerbirligi-gs-18-04-26/
LOCATION:Munchy The Urban Kitchen\, Franz-Josefs-Kai 57\, Wien\, 1010\, Austria
CATEGORIES:sport
ATTACH;FMTTYPE=image/png:https://urbankitchen.at/wp-content/uploads/2026/04/GenclerbirligiGs.png
ORGANIZER;CN="Munchy The Urban Kitchen":MAILTO:office@munchy.at
END:VEVENT
BEGIN:VEVENT
DTSTART;TZID=UTC:20260418T204500
DTEND;TZID=UTC:20260418T224500
DTSTAMP:20260424T151400
CREATED:20260331T084518Z
LAST-MODIFIED:20260331T084518Z
UID:5208-1776545100-1776552300@urbankitchen.at
SUMMARY:AS Roma-Atalanta - 18/04/2026
DESCRIPTION:Am Samstag\, den 18.04.2026 um 20:45 Uhr erwartet dich ein echtes italienisches Topspiel voller Intensität und Tempo: AS Roma gegen Atalanta. \nErlebe dieses Duell live bei Munchy am Schottenring\, wo Fußball zur echten Stadionerfahrung wird. Große Screens\, perfekte Sicht aus jeder Perspektive und eine Crowd\, die jeden Moment gemeinsam lebt – von der ersten Minute bis zum Schlusspfiff. Hier entsteht eine Atmosphäre\, die dich direkt ins Spiel hineinzieht\, laut\, dynamisch und voller Energie. \nRoma steht für Leidenschaft\, Emotion und offensive Momente\, während Atalanta mit aggressivem Pressing\, schnellem Umschaltspiel und konstantem Druck überzeugt. Diese Mischung garantiert ein Spiel ohne Pausen\, voller Chancen und intensiver Zweikämpfe – genau das\, was man in dieser Umgebung maximal spürt. \nDazu bekommst du bei Munchy alles\, was einen perfekten Fußballabend ausmacht: saftige Burger\, frische Snacks und perfekt gekühlte Drinks. Die Kombination aus hochwertigem Food\, starken Vibes und einer echten Fan-Atmosphäre macht jeden großen Spieltag zu einem Erlebnis. \nAS Roma gegen Atalanta ist kein gewöhnliches Spiel – und bei Munchy wird daraus ein Abend\, der nicht nur verfolgt\, sondern gelebt wird.
URL:https://urbankitchen.at/event/roma-atalanta-18-04-26/
LOCATION:Munchy The Urban Kitchen\, Franz-Josefs-Kai 57\, Wien\, 1010\, Austria
CATEGORIES:sport
ATTACH;FMTTYPE=image/png:https://urbankitchen.at/wp-content/uploads/2026/03/RomaAtalanta.png
ORGANIZER;CN="Munchy The Urban Kitchen":MAILTO:office@munchy.at
END:VEVENT
BEGIN:VEVENT
DTSTART;TZID=UTC:20260418T210000
DTEND;TZID=UTC:20260418T230000
DTSTAMP:20260424T151400
CREATED:20260331T084046Z
LAST-MODIFIED:20260331T084046Z
UID:5202-1776546000-1776553200@urbankitchen.at
SUMMARY:Chelsea-Manchester United - 18/04/2026
DESCRIPTION:Am Samstag\, den 18.04.2026 um 21:00 Uhr\, treffen zwei der größten Clubs des englischen Fußballs aufeinander: Chelsea gegen Manchester United – ein Spiel voller Intensität\, Tempo und Geschichte. \nErlebe dieses Topspiel live bei Munchy am Schottenring\, wo Fußball nicht einfach nur geschaut\, sondern gefühlt wird. Großbildschirme\, klare Sicht aus jeder Perspektive und eine Atmosphäre\, die dich direkt ins Stadion versetzt. Jeder Zweikampf\, jeder Pass und jeder Abschluss wird hier gemeinsam erlebt – laut\, emotional und mit voller Energie. \nWährend auf dem Platz um jeden Meter gekämpft wird\, bekommst du bei uns genau das\, was ein perfekter Fußballabend braucht: saftige Burger\, frische Snacks und eiskalte Drinks. Die Kombination aus hochwertigem Food\, mitreißender Stimmung und echten Fußballfans macht Munchy zum idealen Spot für solche Spiele. \nChelsea gegen Manchester United ist kein gewöhnliches Match – es ist ein Klassiker. Und genau so solltest du ihn auch erleben. Live\, gemeinsam und in einer Atmosphäre\, die diesem Spiel gerecht wird.
URL:https://urbankitchen.at/event/chelsea-united-18-04-26/
LOCATION:Munchy The Urban Kitchen\, Franz-Josefs-Kai 57\, Wien\, 1010\, Austria
CATEGORIES:sport
ATTACH;FMTTYPE=image/png:https://urbankitchen.at/wp-content/uploads/2026/03/ChelseaUnited.png
ORGANIZER;CN="Munchy The Urban Kitchen":MAILTO:office@munchy.at
END:VEVENT
BEGIN:VEVENT
DTSTART;TZID=UTC:20260418T210000
DTEND;TZID=UTC:20260418T230000
DTSTAMP:20260424T151400
CREATED:20260331T085243Z
LAST-MODIFIED:20260331T085243Z
UID:5214-1776546000-1776553200@urbankitchen.at
SUMMARY:Copa Del Rey Finale - 18/04/2026
DESCRIPTION:Am Samstag\, den 18.04.2026 um 21:00 Uhr steht ein großes Finale auf dem Programm: das Copa del Rey Finale zwischen Atlético Madrid und Real Sociedad – ein Spiel voller Spannung\, Intensität und spanischer Fußballleidenschaft auf höchstem Niveau. \nErlebe dieses Finale live bei Munchy am Schottenring\, wo aus einem Spiel ein echtes Event wird. Große Screens\, klare Sicht aus jeder Perspektive und eine Atmosphäre\, die dich vom ersten Moment an mitreißt. Hier geht es nicht nur darum zuzusehen\, sondern jeden Moment gemeinsam zu erleben – jede Chance\, jeder Zweikampf und jedes Tor wird Teil einer elektrischen Stimmung im Raum. \nAtlético Madrid bringt Kampfgeist\, defensive Stärke und kompromisslose Intensität\, während Real Sociedad für spielerische Qualität\, Tempo und kreative Lösungen steht. Diese Kombination macht das Finale zu einem offenen Duell\, in dem jede Aktion entscheidend sein kann und die Spannung bis zur letzten Minute spürbar bleibt. \nWährend auf dem Platz um den Titel gekämpft wird\, sorgt Munchy für das perfekte Matchday-Erlebnis: saftige Burger\, frische Snacks und perfekt gekühlte Drinks begleiten dich durch einen Abend\, der sich wie ein Stadionbesuch anfühlt. Die Mischung aus hochwertigem Food\, starken Vibes und einer Crowd\, die mitfiebert\, macht dieses Finale zu einem besonderen Erlebnis. \nDas Copa del Rey Finale bei Munchy ist mehr als nur ein Spiel – es ist ein Abend voller Emotionen\, Energie und Fußball auf höchstem Niveau.
URL:https://urbankitchen.at/event/copa-del-rey-finale-18-04-26/
LOCATION:Munchy The Urban Kitchen\, Franz-Josefs-Kai 57\, Wien\, 1010\, Austria
CATEGORIES:sport
ATTACH;FMTTYPE=image/jpeg:https://urbankitchen.at/wp-content/uploads/2026/03/CopaDelReyFinale.jpg
ORGANIZER;CN="Munchy The Urban Kitchen":MAILTO:office@munchy.at
END:VEVENT
END:VCALENDAR