BEGIN:VCALENDAR
VERSION:2.0
PRODID:-//Munchy The Urban Kitchen - ECPv6.15.12.2//NONSGML v1.0//EN
CALSCALE:GREGORIAN
METHOD:PUBLISH
X-ORIGINAL-URL:https://urbankitchen.at
X-WR-CALDESC:Veranstaltungen für Munchy The Urban Kitchen
REFRESH-INTERVAL;VALUE=DURATION:PT1H
X-Robots-Tag:noindex
X-PUBLISHED-TTL:PT1H
BEGIN:VTIMEZONE
TZID:UTC
BEGIN:STANDARD
TZOFFSETFROM:+0000
TZOFFSETTO:+0000
TZNAME:UTC
DTSTART:20250101T000000
END:STANDARD
END:VTIMEZONE
BEGIN:VEVENT
DTSTART;TZID=UTC:20260413T200000
DTEND;TZID=UTC:20260413T230000
DTSTAMP:20260424T171836
CREATED:20260220T114701Z
LAST-MODIFIED:20260220T114721Z
UID:4884-1776110400-1776121200@urbankitchen.at
SUMMARY:Pub Quiz Nights
DESCRIPTION:Every Monday night\, Munchy am Schottenring turns into the ultimate Pub Quiz hotspot in Vienna.If you love good vibes\, cold drinks\, great food\, and a bit of friendly competition\, this is your weekly plan sorted. \nOur Pub Quiz Night is all about fun\, challenge\, and community. Whether you come with your team or join solo\, it’s easy to jump in and feel part of the game. \nThe atmosphere is relaxed but energetic — grab a beer\, enjoy Munchy’s kitchen\, and test your knowledge while cheering\, laughing\, and competing with friends and other quiz lovers. You don’t need to be a quiz pro; it’s about having fun\, meeting people\, and starting the week on a high note.
URL:https://urbankitchen.at/event/pub-quiz-nights-13-04-26/
LOCATION:Munchy The Urban Kitchen\, Franz-Josefs-Kai 57\, Wien\, 1010\, Austria
CATEGORIES:sport
ATTACH;FMTTYPE=image/png:https://urbankitchen.at/wp-content/uploads/2026/02/PubQuiz.png
ORGANIZER;CN="Munchy The Urban Kitchen":MAILTO:office@munchy.at
END:VEVENT
BEGIN:VEVENT
DTSTART;TZID=UTC:20260413T204500
DTEND;TZID=UTC:20260413T224500
DTSTAMP:20260424T171836
CREATED:20260326T140401Z
LAST-MODIFIED:20260326T140401Z
UID:5173-1776113100-1776120300@urbankitchen.at
SUMMARY:Fiorentina-Lazio - 13/04/2026
DESCRIPTION:Erlebe das italienische Topduell zwischen Fiorentina und Lazio live bei Munchy am Schottenring in Wien und tauche ein in einen Abend voller Technik\, Taktik und Leidenschaft aus der Serie A. Am Montag\, den 13.04.2026 um 20:45 Uhr\, erwartet dich ein intensives Spiel zweier traditionsreicher Teams\, die für attraktiven Fußball und spannende Duelle stehen. \nMunchy am Schottenring bietet dir die perfekte Bühne für dieses Match mit großen Screens\, klarem Sound und einer mitreißenden Atmosphäre\, die echtes Stadiongefühl vermittelt. Jeder Angriff\, jede Torchance und jede entscheidende Szene wird hier gemeinsam erlebt und gefeiert\, sodass du das Spiel nicht nur siehst\, sondern fühlst. \nNeben dem Fußball sorgt Munchy für ein hochwertiges Matchday-Erlebnis mit saftigen Burgern\, frischen Snacks und einer großen Auswahl an Drinks. Ob mit Freunden oder mit anderen Fußballfans\, dieser Spot in Wien ist die ideale Adresse\, um Serie A live zu schauen und einen intensiven Fußballabend zu genießen. \nReserviere dir deinen Platz und erlebe Fiorentina gegen Lazio live bei Munchy am Schottenring.
URL:https://urbankitchen.at/event/fiorentina-lazio-13-04-26/
LOCATION:Munchy The Urban Kitchen\, Franz-Josefs-Kai 57\, Wien\, 1010\, Austria
CATEGORIES:sport
ATTACH;FMTTYPE=image/png:https://urbankitchen.at/wp-content/uploads/2026/03/FiorentinaLazio.png
ORGANIZER;CN="Munchy The Urban Kitchen":MAILTO:office@munchy.at
END:VEVENT
BEGIN:VEVENT
DTSTART;TZID=UTC:20260413T210000
DTEND;TZID=UTC:20260413T230000
DTSTAMP:20260424T171836
CREATED:20260326T135953Z
LAST-MODIFIED:20260326T135953Z
UID:5170-1776114000-1776121200@urbankitchen.at
SUMMARY:Manchester United-Leeds United - 13/04/2026
DESCRIPTION:Erlebe das traditionsreiche Duell zwischen Manchester United und Leeds United live bei Munchy am Schottenring in Wien und tauche ein in eine der intensivsten Rivalitäten des englischen Fußballs. Am Montag\, den 13.04.2026 um 21:00 Uhr\, erwartet dich ein Spiel voller Tempo\, Emotionen und kämpferischer Leidenschaft\, das Premier-League-Fans nicht verpassen sollten. \nMunchy am Schottenring bietet dir das perfekte Setting für dieses Topspiel mit großen Screens\, klarem Sound und einer energiegeladenen Atmosphäre\, die echtes Stadiongefühl vermittelt. Jeder Zweikampf\, jeder Angriff und jedes Tor wird hier gemeinsam erlebt und gefeiert\, wodurch du mitten im Geschehen bist und die Spannung hautnah spürst. \nNeben dem Spiel sorgt Munchy für ein hochwertiges Matchday-Erlebnis mit saftigen Burgern\, frischen Snacks und einer großen Auswahl an Drinks. Ob mit Freunden oder mit anderen Fußballfans\, dieser Spot in Wien ist die ideale Adresse\, um Premier League live zu schauen und einen intensiven Fußballabend zu genießen. \nReserviere dir deinen Platz und erlebe Manchester United gegen Leeds United live bei Munchy am Schottenring.
URL:https://urbankitchen.at/event/united-leeds-13-04-26/
LOCATION:Munchy The Urban Kitchen\, Franz-Josefs-Kai 57\, Wien\, 1010\, Austria
CATEGORIES:sport
ATTACH;FMTTYPE=image/png:https://urbankitchen.at/wp-content/uploads/2026/03/ManULeeds.png
ORGANIZER;CN="Munchy The Urban Kitchen":MAILTO:office@munchy.at
END:VEVENT
END:VCALENDAR