BEGIN:VCALENDAR
VERSION:2.0
PRODID:-//Munchy The Urban Kitchen - ECPv6.15.12.2//NONSGML v1.0//EN
CALSCALE:GREGORIAN
METHOD:PUBLISH
X-ORIGINAL-URL:https://urbankitchen.at
X-WR-CALDESC:Veranstaltungen für Munchy The Urban Kitchen
REFRESH-INTERVAL;VALUE=DURATION:PT1H
X-Robots-Tag:noindex
X-PUBLISHED-TTL:PT1H
BEGIN:VTIMEZONE
TZID:UTC
BEGIN:STANDARD
TZOFFSETFROM:+0000
TZOFFSETTO:+0000
TZNAME:UTC
DTSTART:20250101T000000
END:STANDARD
END:VTIMEZONE
BEGIN:VEVENT
DTSTART;TZID=UTC:20260410T193000
DTEND;TZID=UTC:20260410T213000
DTSTAMP:20260424T171703
CREATED:20260325T092221Z
LAST-MODIFIED:20260325T092221Z
UID:5134-1775849400-1775856600@urbankitchen.at
SUMMARY:RB Salzburg-LASK - 10/04/2026
DESCRIPTION:Ein Topspiel der österreichischen Bundesliga Meistergruppe erwartet dich live bei Munchy am Schottenring: Red Bull Salzburg trifft auf LASK – ein Duell auf höchstem nationalen Niveau\, geprägt von Tempo\, Intensität und klaren Offensivstrukturen. Beide Teams kämpfen um entscheidende Punkte in der Meistergruppe\, was dieses Spiel besonders spannend und bedeutungsvoll macht. \nAm Freitag\, den 10.04.2026 um 19:30 Uhr wird Munchy zum Treffpunkt für alle Fußballfans in Wien\, die österreichischen Spitzenfußball gemeinsam erleben wollen. Große Screens\, gestochen scharfe Übertragungen und eine energiegeladene Atmosphäre sorgen für echtes Stadionfeeling mitten in der Stadt. Jeder Angriff\, jede Torchance und jedes Tor wird hier intensiv verfolgt und gefeiert. \nDazu erwarten dich saftige Burger\, starke Drinks und ein urbanes Ambiente\, das perfekt zu einem intensiven Fußballabend passt. Egal ob du dein Team unterstützt oder einfach ein Topspiel der Meistergruppe genießen willst\, bei Munchy erlebst du Salzburg gegen LASK in einer Atmosphäre\, die dich komplett ins Spiel zieht. Sichere dir deinen Platz und sei dabei\, wenn dieses Duell für echte Matchday-Stimmung sorgt.
URL:https://urbankitchen.at/event/salzburg-lask-10-04-26/
LOCATION:Munchy The Urban Kitchen\, Franz-Josefs-Kai 57\, Wien\, 1010\, Austria
CATEGORIES:sport
ATTACH;FMTTYPE=image/png:https://urbankitchen.at/wp-content/uploads/2026/03/SalzburgLask.png
ORGANIZER;CN="Munchy The Urban Kitchen":MAILTO:office@munchy.at
END:VEVENT
BEGIN:VEVENT
DTSTART;TZID=UTC:20260410T203000
DTEND;TZID=UTC:20260410T223000
DTSTAMP:20260424T171703
CREATED:20260325T090558Z
LAST-MODIFIED:20260325T090558Z
UID:5126-1775853000-1775860200@urbankitchen.at
SUMMARY:Bundesliga Freitag - 10/04/2026
DESCRIPTION:Erlebe den Bundesliga Freitag live bei Munchy am Schottenring und starte ins Wochenende mit einem intensiven Duell aus Deutschland: Augsburg trifft auf Hoffenheim – zwei Teams\, die für Tempo\, direkte Spielweise und gefährliche Offensivaktionen stehen. Dieses Spiel verspricht schnelle Angriffe\, enge Zweikämpfe und Spannung von der ersten bis zur letzten Minute. \nAm Freitag\, den 10.04.2026 um 20:30 Uhr wird Munchy zum Treffpunkt für alle Fußballfans in Wien\, die den Bundesliga-Abend gemeinsam erleben wollen. Große Screens\, klare Übertragungen und eine energiegeladene Atmosphäre sorgen dafür\, dass du jede Szene hautnah mitverfolgst und den Matchday in voller Intensität genießen kannst. \nDazu erwarten dich saftige Burger\, starke Drinks und ein urbanes Ambiente\, das perfekt zu einem Freitagabend passt. Egal ob du gezielt für das Spiel kommst oder den Abend mit Freunden verbringen willst\, bei Munchy erlebst du Augsburg gegen Hoffenheim in einer Atmosphäre\, die dich komplett ins Spiel zieht. Sichere dir deinen Platz und starte dein Wochenende mit echtem Fußballfeeling mitten in Wien.
URL:https://urbankitchen.at/event/bundesliga-10-04-26/
LOCATION:Munchy The Urban Kitchen\, Franz-Josefs-Kai 57\, Wien\, 1010\, Austria
CATEGORIES:sport
ATTACH;FMTTYPE=image/jpeg:https://urbankitchen.at/wp-content/uploads/2026/03/BundesligaFreitag_10.04.26.jpg
ORGANIZER;CN="Munchy The Urban Kitchen":MAILTO:office@munchy.at
END:VEVENT
BEGIN:VEVENT
DTSTART;TZID=UTC:20260410T210000
DTEND;TZID=UTC:20260410T230000
DTSTAMP:20260424T171703
CREATED:20260325T091908Z
LAST-MODIFIED:20260325T091908Z
UID:5130-1775854800-1775862000@urbankitchen.at
SUMMARY:Real Madrid-Girona - 10/04/2026
DESCRIPTION:Ein spannendes Duell aus La Liga erwartet dich live bei Munchy am Schottenring: Real Madrid trifft auf Girona – Erfahrung\, Qualität und Titelmentalität gegen ein Team\, das mit Tempo\, Mut und spielerischer Dynamik überzeugt. Dieses Spiel verspricht intensive Phasen\, schnelle Kombinationen und Momente\, die jederzeit den Unterschied machen können.\n\n\n\n\n\n\n\n\n\n\n\n\n\n\nAm Freitag\, den 10.04.2026 um 21:00 Uhr wird Munchy zum Treffpunkt für alle Fußballfans in Wien\, die den Abend mit Top-Fußball aus Spanien erleben wollen. Große Screens\, gestochen scharfe Übertragung und eine energiegeladene Atmosphäre sorgen für echtes Stadionfeeling mitten in der Stadt. Jeder Angriff\, jede Torchance und jedes Tor wird hier gemeinsam verfolgt und gefeiert. \nDazu erwarten dich saftige Burger\, starke Drinks und ein urbanes Ambiente\, das perfekt zu einem intensiven Fußballabend passt. Egal ob du dein Team unterstützt oder einfach ein hochklassiges Spiel genießen willst\, bei Munchy erlebst du Real Madrid gegen Girona in einer Atmosphäre\, die dich komplett ins Spiel zieht. Sichere dir deinen Platz und starte dein Wochenende mit echtem Matchday-Feeling mitten in Wien.
URL:https://urbankitchen.at/event/real-girona-10-04-26/
LOCATION:Munchy The Urban Kitchen\, Franz-Josefs-Kai 57\, Wien\, 1010\, Austria
CATEGORIES:sport
ATTACH;FMTTYPE=image/png:https://urbankitchen.at/wp-content/uploads/2026/03/RealGirona.png
ORGANIZER;CN="Munchy The Urban Kitchen":MAILTO:office@munchy.at
END:VEVENT
END:VCALENDAR