BEGIN:VCALENDAR
VERSION:2.0
PRODID:-//Munchy The Urban Kitchen - ECPv6.15.12.2//NONSGML v1.0//EN
CALSCALE:GREGORIAN
METHOD:PUBLISH
X-WR-CALNAME:Munchy The Urban Kitchen
X-ORIGINAL-URL:https://urbankitchen.at
X-WR-CALDESC:Veranstaltungen für Munchy The Urban Kitchen
REFRESH-INTERVAL;VALUE=DURATION:PT1H
X-Robots-Tag:noindex
X-PUBLISHED-TTL:PT1H
BEGIN:VTIMEZONE
TZID:UTC
BEGIN:STANDARD
TZOFFSETFROM:+0000
TZOFFSETTO:+0000
TZNAME:UTC
DTSTART:20250101T000000
END:STANDARD
END:VTIMEZONE
BEGIN:VEVENT
DTSTART;TZID=UTC:20260409T184500
DTEND;TZID=UTC:20260409T210000
DTSTAMP:20260424T171617
CREATED:20260323T131107Z
LAST-MODIFIED:20260323T131107Z
UID:5120-1775760300-1775768400@urbankitchen.at
SUMMARY:Conference League Match Day - 09/04/2026
DESCRIPTION:Erlebe den Conference League Match Day live bei Munchy am Schottenring und tauche ein in einen internationalen Fußballabend voller Spannung\, Tempo und abwechslungsreicher Duelle. Am Donnerstag\, den 09.04.2026\, erwartet dich ein voller Spieltag mit Begegnungen um 18:45 Uhr und 21:00 Uhr\, darunter Rayo Vallecano gegen AEK Athen sowie Mainz gegen Strasbourg\, Crystal Palace gegen Fiorentina und Shakhtar Donetsk gegen AZ Alkmaar. \nDie Mischung aus frühen und späten Spielen sorgt für einen durchgehenden Fußballabend mit ständig neuen Highlights\, intensiven Zweikämpfen und entscheidenden Momenten. Jedes Spiel bringt seinen eigenen Stil und seine eigene Dynamik mit\, wodurch ein abwechslungsreiches und spannendes Gesamtbild entsteht. \nMunchy wird dabei zum Treffpunkt für alle Fußballfans in Wien\, die internationale Spiele in einer besonderen Atmosphäre erleben wollen. Große Screens\, klare Übertragungen und eine energiegeladene Crowd sorgen dafür\, dass du jede Szene hautnah mitverfolgst und den Abend gemeinsam mit anderen Fans genießen kannst. \nDazu erwarten dich saftige Burger\, starke Drinks und ein urbanes Ambiente\, das perfekt zu einem europäischen Fußballabend passt. Egal ob du gezielt ein Spiel verfolgst oder den gesamten Match Day miterlebst\, bei Munchy bekommst du Conference League live in einer Atmosphäre\, die dich komplett ins Spiel zieht. Sichere dir deinen Platz und sei dabei\, wenn internationaler Fußball in Wien auf echte Matchday-Stimmung trifft.
URL:https://urbankitchen.at/event/conference-league-match-day-09-04-2026/
LOCATION:Munchy The Urban Kitchen\, Franz-Josefs-Kai 57\, Wien\, 1010\, Austria
CATEGORIES:sport
ATTACH;FMTTYPE=image/jpeg:https://urbankitchen.at/wp-content/uploads/2026/03/ConfernceLeague-9Nisan.jpg
ORGANIZER;CN="Munchy The Urban Kitchen":MAILTO:office@munchy.at
END:VEVENT
BEGIN:VEVENT
DTSTART;TZID=UTC:20260409T210000
DTEND;TZID=UTC:20260409T230000
DTSTAMP:20260424T171617
CREATED:20260323T130902Z
LAST-MODIFIED:20260323T130914Z
UID:5116-1775768400-1775775600@urbankitchen.at
SUMMARY:Europa League Match Day - 09/04/2026
DESCRIPTION:Erlebe den Europa League Match Day live bei Munchy am Schottenring und tauche ein in einen internationalen Fußballabend voller Spannung\, Tempo und Top-Duelle. Am Donnerstag\, den 09.04.2026\, erwarten dich mehrere Spiele gleichzeitig um 21:00 Uhr\, darunter Bologna gegen Aston Villa\, FC Porto gegen Nottingham Forest sowie Freiburg gegen Celta Vigo – ein perfekter Abend für alle\, die europäischen Fußball in seiner ganzen Vielfalt erleben wollen. \nDurch die parallel laufenden Spiele entsteht eine dynamische Atmosphäre mit ständig wechselnden Highlights\, Torchancen und entscheidenden Momenten. Jeder Angriff kann das Spiel verändern und sorgt für Spannung bis zur letzten Minute. \nMunchy wird dabei zum Treffpunkt für alle Fußballfans in Wien\, die mehr wollen als nur ein Spiel zu schauen. Große Screens\, klare Übertragungen und eine energiegeladene Crowd sorgen für echtes Stadionfeeling mitten in der Stadt. Egal welches Spiel du verfolgst\, die Atmosphäre zieht dich sofort ins Geschehen. \nDazu erwarten dich saftige Burger\, starke Drinks und ein urbanes Ambiente\, das perfekt zu einem europäischen Fußballabend passt. Ob du gezielt ein Spiel schaust oder den gesamten Match Day erlebst\, bei Munchy bekommst du Europa League live in einer Atmosphäre\, die dich komplett ins Spiel zieht. Sichere dir deinen Platz und sei dabei\, wenn der Europa-League-Abend Wien zum Treffpunkt für Fußballfans macht.
URL:https://urbankitchen.at/event/europa-league-09-04-26/
LOCATION:Munchy The Urban Kitchen\, Franz-Josefs-Kai 57\, Wien\, 1010\, Austria
CATEGORIES:sport
ATTACH;FMTTYPE=image/jpeg:https://urbankitchen.at/wp-content/uploads/2026/03/EuropaLeague-9Nisan.jpg
ORGANIZER;CN="Munchy The Urban Kitchen":MAILTO:office@munchy.at
END:VEVENT
END:VCALENDAR