BEGIN:VCALENDAR
VERSION:2.0
PRODID:-//Munchy The Urban Kitchen - ECPv6.15.12.2//NONSGML v1.0//EN
CALSCALE:GREGORIAN
METHOD:PUBLISH
X-WR-CALNAME:Munchy The Urban Kitchen
X-ORIGINAL-URL:https://urbankitchen.at
X-WR-CALDESC:Veranstaltungen für Munchy The Urban Kitchen
REFRESH-INTERVAL;VALUE=DURATION:PT1H
X-Robots-Tag:noindex
X-PUBLISHED-TTL:PT1H
BEGIN:VTIMEZONE
TZID:UTC
BEGIN:STANDARD
TZOFFSETFROM:+0000
TZOFFSETTO:+0000
TZNAME:UTC
DTSTART:20250101T000000
END:STANDARD
END:VTIMEZONE
BEGIN:VEVENT
DTSTART;TZID=UTC:20260405T143000
DTEND;TZID=UTC:20260405T170000
DTSTAMP:20260424T171509
CREATED:20260323T110203Z
LAST-MODIFIED:20260323T110203Z
UID:5078-1775399400-1775408400@urbankitchen.at
SUMMARY:Österreichischen Bundesliga Meistergruppe Match Day - 05/04/2026
DESCRIPTION:Erlebe den Meistergruppe Match Day der österreichischen Bundesliga live bei Munchy am Schottenring und tauche ein in einen entscheidenden Spieltag\, bei dem es um Titelrennen\, internationale Plätze und maximale Spannung geht. Am Sonntag\, den 05.04.2026\, erwarten dich gleich mehrere Topspiele\, die parallel für intensive Fußballmomente sorgen und den Nachmittag bis in den Abend hinein auf höchstem Niveau prägen. \nUm 14:30 Uhr starten LASK gegen Austria Wien sowie Hartberg gegen RB Salzburg – zwei Duelle\, in denen jede Aktion zählen kann und der Druck spürbar ist. Am Abend folgt um 17:00 Uhr das absolute Highlight: Rapid Wien gegen Sturm Graz\, ein Spiel mit echter Rivalität\, Emotion und einer Atmosphäre\, die für sich spricht. \nMunchy wird dabei zum Hotspot für alle Fußballfans in Wien\, die das Spiel nicht nur verfolgen\, sondern gemeinsam erleben wollen. Große Screens\, klare Übertragungen und eine energiegeladene Crowd sorgen für echtes Stadionfeeling mitten in der Stadt. Jeder Treffer\, jede Chance und jede entscheidende Szene wird hier intensiv gefeiert. \nDazu kommen saftige Burger\, frische Drinks und ein urbanes Ambiente\, das perfekt zum Match Day passt. Egal ob du dein Team unterstützt oder einfach einen hochklassigen Fußballtag genießen willst\, bei Munchy bekommst du die Meistergruppe live in einer Atmosphäre\, die dich komplett ins Spiel zieht. Sichere dir deinen Platz und erlebe den österreichischen Fußball auf seinem spannendsten Level.
URL:https://urbankitchen.at/event/meistergruppe-05-04-26/
LOCATION:Munchy The Urban Kitchen\, Franz-Josefs-Kai 57\, Wien\, 1010\, Austria
CATEGORIES:sport
ATTACH;FMTTYPE=image/png:https://urbankitchen.at/wp-content/uploads/2026/03/ChampionshipRound_AustrianBundesliga.png
ORGANIZER;CN="Munchy The Urban Kitchen":MAILTO:office@munchy.at
END:VEVENT
BEGIN:VEVENT
DTSTART;TZID=UTC:20260405T153000
DTEND;TZID=UTC:20260405T173000
DTSTAMP:20260424T171509
CREATED:20260323T111109Z
LAST-MODIFIED:20260323T111151Z
UID:5085-1775403000-1775410200@urbankitchen.at
SUMMARY:Bundesliga Match Day - 05/04/2026
DESCRIPTION:Erlebe den Bundesliga Match Day am Sonntag live bei Munchy am Schottenring und genieße einen Fußballtag voller Intensität\, Emotion und spannender Duelle aus Deutschland. Am 05.04.2026 erwarten dich zwei starke Begegnungen\, die den Nachmittag und Abend perfekt abrunden und für durchgehend packende Momente sorgen. \nUm 15:30 Uhr trifft Union Berlin auf St. Pauli\, ein Duell mit viel Energie\, Kampfgeist und leidenschaftlichem Fußball. Beide Teams stehen für intensiven Einsatz und eine Atmosphäre\, die von der ersten Minute an spürbar ist. Am Abend folgt um 17:30 Uhr Frankfurt gegen Köln\, ein traditionsreiches Spiel mit Tempo\, Offensivdrang und der Qualität\, jederzeit für entscheidende Aktionen zu sorgen. \nMunchy wird dabei zum Treffpunkt für alle Fußballfans in Wien\, die das Spiel gemeinsam erleben wollen. Große Screens\, klare Übertragungen und eine mitreißende Crowd schaffen echtes Stadionfeeling mitten in der Stadt. Jeder Angriff\, jede Torchance und jedes Tor wird hier intensiv verfolgt und gefeiert. \nDazu erwarten dich saftige Burger\, starke Drinks und ein urbanes Ambiente\, das den perfekten Rahmen für einen Fußballsonntag bietet. Egal ob du gezielt für ein Spiel kommst oder beide Partien miterlebst\, bei Munchy bekommst du Bundesliga live in einer Atmosphäre\, die dich komplett ins Spiel zieht. Sichere dir deinen Platz und sei dabei\, wenn der Sonntag in Wien zum echten Fußballerlebnis wird.
URL:https://urbankitchen.at/event/bundesliga-match-day-05-04-2026/
LOCATION:Munchy The Urban Kitchen\, Franz-Josefs-Kai 57\, Wien\, 1010\, Austria
CATEGORIES:sport
ATTACH;FMTTYPE=image/png:https://urbankitchen.at/wp-content/uploads/2026/03/BundesligaMatchDay-5Nisan2026.png
ORGANIZER;CN="Munchy The Urban Kitchen":MAILTO:office@munchy.at
END:VEVENT
BEGIN:VEVENT
DTSTART;TZID=UTC:20260405T190000
DTEND;TZID=UTC:20260405T210000
DTSTAMP:20260424T171509
CREATED:20260323T111425Z
LAST-MODIFIED:20260323T111425Z
UID:5089-1775415600-1775422800@urbankitchen.at
SUMMARY:Fenerbahçe-Besiktas - 05/04/2026
DESCRIPTION:Ein echtes Derby-Highlight erwartet dich live bei Munchy am Schottenring: Fenerbahçe trifft auf Beşiktaş – ein Duell voller Emotionen\, Tempo und purer Leidenschaft. Zwei der größten Vereine der Türkei stehen sich gegenüber und liefern ein Spiel\, das von Intensität\, Zweikämpfen und unvorhersehbaren Momenten lebt. Jeder Angriff kann spielentscheidend sein\, jede Szene sorgt für Spannung. \nAm Sonntag\, den 05.04.2026 um 19:00 Uhr wird Munchy zum Treffpunkt für alle Fußballfans in Wien\, die dieses Spiel gemeinsam erleben wollen. Große Screens\, eine mitreißende Atmosphäre und ein internationales Publikum sorgen für echtes Stadionfeeling mitten in der Stadt. Die Energie im Raum steigt mit jeder Minute und macht dieses Derby zu einem besonderen Erlebnis. \nDazu erwarten dich saftige Burger\, starke Drinks und ein urbanes Ambiente\, das den perfekten Rahmen für einen intensiven Fußballabend bietet. Egal ob du dein Team unterstützt oder einfach ein emotionales Topspiel genießen willst\, bei Munchy erlebst du Fenerbahçe gegen Beşiktaş so\, wie Fußball sein soll: laut\, leidenschaftlich und unvergesslich. Sichere dir deinen Platz und sei dabei\, wenn dieses Derby Wien elektrisiert.
URL:https://urbankitchen.at/event/fb-bjk-05-04-2026/
LOCATION:Munchy The Urban Kitchen\, Franz-Josefs-Kai 57\, Wien\, 1010\, Austria
CATEGORIES:sport
ATTACH;FMTTYPE=image/png:https://urbankitchen.at/wp-content/uploads/2026/03/FbBjk.png
ORGANIZER;CN="Munchy The Urban Kitchen":MAILTO:office@munchy.at
END:VEVENT
BEGIN:VEVENT
DTSTART;TZID=UTC:20260405T204500
DTEND;TZID=UTC:20260405T224500
DTSTAMP:20260424T171509
CREATED:20260323T110857Z
LAST-MODIFIED:20260323T110857Z
UID:5081-1775421900-1775429100@urbankitchen.at
SUMMARY:Inter-AS Roma - 05/04/2026
DESCRIPTION:Ein echtes Topduell aus der Serie A erwartet dich live bei Munchy am Schottenring: Inter Mailand trifft auf AS Roma – zwei Traditionsvereine\, die für Intensität\, Taktik und individuelle Klasse stehen. Während Inter mit Tempo\, physischer Stärke und strukturiertem Offensivspiel überzeugt\, bringt Roma Leidenschaft\, Kreativität und gefährliche Umschaltmomente auf den Platz. Dieses Spiel verspricht Spannung auf höchstem Niveau und entscheidende Szenen bis zur letzten Minute. \nAm Sonntag\, den 05.04.2026 um 20:45 Uhr verwandelt sich Munchy in den Treffpunkt für alle Fußballfans in Wien\, die dieses Duell gemeinsam erleben wollen. Große Screens\, gestochen scharfe Übertragungen und eine energiegeladene Atmosphäre sorgen für echtes Stadionfeeling mitten in der Stadt. Jeder Zweikampf\, jede Torchance und jedes Tor wird hier intensiv mitverfolgt und gefeiert. \nDazu erwarten dich saftige Burger\, starke Drinks und ein urbanes Ambiente\, das den perfekten Rahmen für einen Fußballabend bietet. Egal ob du dein Team unterstützt oder einfach ein hochklassiges Spiel genießen willst\, bei Munchy erlebst du Inter gegen Roma so\, wie Fußball sein soll: live\, laut und unvergesslich. Sichere dir deinen Platz und sei dabei\, wenn dieses Topspiel die Stadt elektrisiert.
URL:https://urbankitchen.at/event/inter-roma-05-04-26/
LOCATION:Munchy The Urban Kitchen\, Franz-Josefs-Kai 57\, Wien\, 1010\, Austria
CATEGORIES:sport
ATTACH;FMTTYPE=image/png:https://urbankitchen.at/wp-content/uploads/2026/03/InterRoma.png
ORGANIZER;CN="Munchy The Urban Kitchen":MAILTO:office@munchy.at
END:VEVENT
END:VCALENDAR